BEGIN:VCALENDAR
VERSION:2.0
PRODID:-//Zughafen - ECPv6.15.20//NONSGML v1.0//EN
CALSCALE:GREGORIAN
METHOD:PUBLISH
X-ORIGINAL-URL:https://zughafen.de
X-WR-CALDESC:Veranstaltungen für Zughafen
REFRESH-INTERVAL;VALUE=DURATION:PT1H
X-Robots-Tag:noindex
X-PUBLISHED-TTL:PT1H
BEGIN:VTIMEZONE
TZID:Europe/Berlin
BEGIN:DAYLIGHT
TZOFFSETFROM:+0100
TZOFFSETTO:+0200
TZNAME:CEST
DTSTART:20230326T010000
END:DAYLIGHT
BEGIN:STANDARD
TZOFFSETFROM:+0200
TZOFFSETTO:+0100
TZNAME:CET
DTSTART:20231029T010000
END:STANDARD
BEGIN:DAYLIGHT
TZOFFSETFROM:+0100
TZOFFSETTO:+0200
TZNAME:CEST
DTSTART:20240331T010000
END:DAYLIGHT
BEGIN:STANDARD
TZOFFSETFROM:+0200
TZOFFSETTO:+0100
TZNAME:CET
DTSTART:20241027T010000
END:STANDARD
BEGIN:DAYLIGHT
TZOFFSETFROM:+0100
TZOFFSETTO:+0200
TZNAME:CEST
DTSTART:20250330T010000
END:DAYLIGHT
BEGIN:STANDARD
TZOFFSETFROM:+0200
TZOFFSETTO:+0100
TZNAME:CET
DTSTART:20251026T010000
END:STANDARD
END:VTIMEZONE
BEGIN:VEVENT
DTSTART;TZID=Europe/Berlin:20241111T200000
DTEND;TZID=Europe/Berlin:20241111T200000
DTSTAMP:20260424T142636
CREATED:20241023T081339Z
LAST-MODIFIED:20241106T095418Z
UID:10000413-1731355200-1731355200@zughafen.de
SUMMARY:NERLY BIGBAND feat. RALF HESSE & KERSTIN RADTKE
DESCRIPTION:NERLY BIGBAND feat. RALF HESSE & KERSTIN RADTKE – Die Nerly Bigband lädt sich immer wieder Gäste ein:\nin diesem Jahr ist es der Trompeter\, Komponist und Arrangeur Ralf Hesse aus Stuttgart. Er spielte in allen deutschen Radio-Bigbands\, bei Bob Brookmeyers New Art Orchestra und beim Orchester Pepe Lienhard. Ralf Hesse ist als musikalischer Leiter und Arrangeur in ganz Europa gefragt. So ist er u.a. Leiter der Landesjugendbigband Sachsen-Anhalt. Nach Erfurt bringt er eine Auswahl eigener Kompositionen mit\, ergänzt um speziell eingerichtete Versionen großer Hits. Lassen Sie sich überraschen! Als weitere Solistin erleben Sie die bekannte Erfurter Sängerin Kerstin Radtke\, seit vielen Jahren eng verbunden mit der Nerly Bigband.\nDie Erfurter Bigband Freunde e.V. sind der Veranstalter. Über die finanzielle Unterstützung der Sparkassenkulturstiftung sind wir sehr erfreut – über Jahre ein verlässlicher Partner.\nWir haben Ihnen einen Platz freigehalten – die dazugehörige Eintrittskarte erhalten Sie im Ticketshop Thüringen oder an der Abendkasse.\n  \nhttps://www.ticketshop-thueringen.de/veranstaltungen/konzerte/jazz-blues-soul-folk/nerly-bigband-feat.-ralf-hesse-kerstin-radtke-36136\n\nWer immer auf dem Laufenden bleiben will\, was im Zughafen passiert\, der kann immer auf der Website vorbeischauen\, wo immer alle Veranstaltungen zu finden sind. Außerdem kann man uns auf Instagram und Facebook folgen\, wo wir alle am Tagesgeschäft teilhaben lassen.
URL:https://zughafen.de/event/nerly-bigband-feat-ralf-hesse-kerstin-radtke/
LOCATION:Halle 6\, Zum Güterbahnhof 20\, Erfurt\, Thüringen\, 99085\, Deutschland
CATEGORIES:Halle 6,Zughafen
ATTACH;FMTTYPE=image/jpeg:https://zughafen.de/wp-content/uploads/2024/10/nerly.jpg
END:VEVENT
END:VCALENDAR