BEGIN:VCALENDAR
VERSION:2.0
PRODID:-//Zughafen - ECPv6.15.20//NONSGML v1.0//EN
CALSCALE:GREGORIAN
METHOD:PUBLISH
X-WR-CALNAME:Zughafen
X-ORIGINAL-URL:https://zughafen.de
X-WR-CALDESC:Veranstaltungen für Zughafen
REFRESH-INTERVAL;VALUE=DURATION:PT1H
X-Robots-Tag:noindex
X-PUBLISHED-TTL:PT1H
BEGIN:VTIMEZONE
TZID:Europe/Berlin
BEGIN:DAYLIGHT
TZOFFSETFROM:+0100
TZOFFSETTO:+0200
TZNAME:CEST
DTSTART:20200329T010000
END:DAYLIGHT
BEGIN:STANDARD
TZOFFSETFROM:+0200
TZOFFSETTO:+0100
TZNAME:CET
DTSTART:20201025T010000
END:STANDARD
BEGIN:DAYLIGHT
TZOFFSETFROM:+0100
TZOFFSETTO:+0200
TZNAME:CEST
DTSTART:20210328T010000
END:DAYLIGHT
BEGIN:STANDARD
TZOFFSETFROM:+0200
TZOFFSETTO:+0100
TZNAME:CET
DTSTART:20211031T010000
END:STANDARD
BEGIN:DAYLIGHT
TZOFFSETFROM:+0100
TZOFFSETTO:+0200
TZNAME:CEST
DTSTART:20220327T010000
END:DAYLIGHT
BEGIN:STANDARD
TZOFFSETFROM:+0200
TZOFFSETTO:+0100
TZNAME:CET
DTSTART:20221030T010000
END:STANDARD
END:VTIMEZONE
BEGIN:VEVENT
DTSTART;TZID=Europe/Berlin:20210821T180000
DTEND;TZID=Europe/Berlin:20210821T230000
DTSTAMP:20260423T040408
CREATED:20210816T092842Z
LAST-MODIFIED:20210816T092911Z
UID:10000133-1629568800-1629586800@zughafen.de
SUMMARY:KLEINE RAMPE - POP UP BÜHNE w/ Tigermilch Live
DESCRIPTION:Die POP UP BÜHNE besucht die KLEINE RAMPE am ZUGHAFEN und bietet am 21.August großartige Live Musik – Umsonst & Draussen –\nLine Up:\nTIGERMILCH\n…\n…\n…\n\nMehr Infos bald.\nMit Unterstützung der Landeshauptstadt Erfurt und der Sparkasse Mittelthüringen im Rahmen des #erfurtkultursommer. Das gesamte Veranstaltungsprogramm ist über die Socialmedia-Kanäle der Kulturdirektion @erfurtkultur und über #erfurtkultursommer zu finden.\n\nÜber weitere Veranstaltungen im Zughafen erfahrt ihr hier mehr.
URL:https://zughafen.de/event/kleine-rampe-pop-up-buehne-w-tigermilch-live/
LOCATION:Kleine Rampe\, Zum Güterbahnhof 20\, Erfurt\, Thüringen\, 99085\, Deutschland
CATEGORIES:Zughafen
ATTACH;FMTTYPE=image/jpeg:https://zughafen.de/wp-content/uploads/2021/08/popupbuehne.jpg
END:VEVENT
END:VCALENDAR