BEGIN:VCALENDAR
VERSION:2.0
PRODID:-//Zughafen - ECPv6.15.20//NONSGML v1.0//EN
CALSCALE:GREGORIAN
METHOD:PUBLISH
X-WR-CALNAME:Zughafen
X-ORIGINAL-URL:https://zughafen.de
X-WR-CALDESC:Veranstaltungen für Zughafen
REFRESH-INTERVAL;VALUE=DURATION:PT1H
X-Robots-Tag:noindex
X-PUBLISHED-TTL:PT1H
BEGIN:VTIMEZONE
TZID:Europe/Berlin
BEGIN:DAYLIGHT
TZOFFSETFROM:+0100
TZOFFSETTO:+0200
TZNAME:CEST
DTSTART:20220327T010000
END:DAYLIGHT
BEGIN:STANDARD
TZOFFSETFROM:+0200
TZOFFSETTO:+0100
TZNAME:CET
DTSTART:20221030T010000
END:STANDARD
BEGIN:DAYLIGHT
TZOFFSETFROM:+0100
TZOFFSETTO:+0200
TZNAME:CEST
DTSTART:20230326T010000
END:DAYLIGHT
BEGIN:STANDARD
TZOFFSETFROM:+0200
TZOFFSETTO:+0100
TZNAME:CET
DTSTART:20231029T010000
END:STANDARD
BEGIN:DAYLIGHT
TZOFFSETFROM:+0100
TZOFFSETTO:+0200
TZNAME:CEST
DTSTART:20240331T010000
END:DAYLIGHT
BEGIN:STANDARD
TZOFFSETFROM:+0200
TZOFFSETTO:+0100
TZNAME:CET
DTSTART:20241027T010000
END:STANDARD
END:VTIMEZONE
BEGIN:VEVENT
DTSTART;TZID=Europe/Berlin:20230114T210000
DTEND;TZID=Europe/Berlin:20230114T210000
DTSTAMP:20260420T095034
CREATED:20221209T152740Z
LAST-MODIFIED:20230125T142451Z
UID:10000293-1673730000-1673730000@zughafen.de
SUMMARY:The Real Depeche Mode Party
DESCRIPTION:The Real Depeche Mode Party – Feiert mit uns die 1. Große Depeche Mode Nacht im einzigartigen Erfurter Zughafen. Die Halle 6 am Gleis 1 bietet genug Raum für eine einzigartige Party. Es erwartet Euch eine einmalige Industrial-Atmosphäre mit Clubfeeling. Eine entsprechende Dekoration und Videoprojektion holt nicht nur die Musik sondern auch die Bilder und das Gefühl dieser einzigartigen Band/Zeit zurück.\nEnjoy! \nTickets -> https://www.tixforgigs.com/Event/45996 \nWer immer auf dem Laufenden bleiben will\, was im Zughafen passiert\, der kann immer auf der Website vorbeischauen\, wo immer alle Veranstaltungen zu finden sind. Außerdem kann man uns auf Instagram und Facebook folgen\, wo wir alle am Tagesgeschäft teilhaben lassen. \n 
URL:https://zughafen.de/event/the-real-depeche-mode-party/
LOCATION:Halle 6\, Zum Güterbahnhof 20\, Erfurt\, Thüringen\, 99085\, Deutschland
CATEGORIES:Halle 6,Zughafen
ATTACH;FMTTYPE=image/jpeg:https://zughafen.de/wp-content/uploads/2022/12/depeche_mode.jpeg
END:VEVENT
END:VCALENDAR