BEGIN:VCALENDAR
VERSION:2.0
PRODID:-//Zughafen - ECPv6.15.20//NONSGML v1.0//EN
CALSCALE:GREGORIAN
METHOD:PUBLISH
X-ORIGINAL-URL:https://zughafen.de
X-WR-CALDESC:Veranstaltungen für Zughafen
REFRESH-INTERVAL;VALUE=DURATION:PT1H
X-Robots-Tag:noindex
X-PUBLISHED-TTL:PT1H
BEGIN:VTIMEZONE
TZID:Europe/Berlin
BEGIN:DAYLIGHT
TZOFFSETFROM:+0100
TZOFFSETTO:+0200
TZNAME:CEST
DTSTART:20200329T010000
END:DAYLIGHT
BEGIN:STANDARD
TZOFFSETFROM:+0200
TZOFFSETTO:+0100
TZNAME:CET
DTSTART:20201025T010000
END:STANDARD
BEGIN:DAYLIGHT
TZOFFSETFROM:+0100
TZOFFSETTO:+0200
TZNAME:CEST
DTSTART:20210328T010000
END:DAYLIGHT
BEGIN:STANDARD
TZOFFSETFROM:+0200
TZOFFSETTO:+0100
TZNAME:CET
DTSTART:20211031T010000
END:STANDARD
BEGIN:DAYLIGHT
TZOFFSETFROM:+0100
TZOFFSETTO:+0200
TZNAME:CEST
DTSTART:20220327T010000
END:DAYLIGHT
BEGIN:STANDARD
TZOFFSETFROM:+0200
TZOFFSETTO:+0100
TZNAME:CET
DTSTART:20221030T010000
END:STANDARD
END:VTIMEZONE
BEGIN:VEVENT
DTSTART;TZID=Europe/Berlin:20210914T180000
DTEND;TZID=Europe/Berlin:20210914T220000
DTSTAMP:20260421T200641
CREATED:20210913T083814Z
LAST-MODIFIED:20210913T084105Z
UID:10000154-1631642400-1631656800@zughafen.de
SUMMARY:90´s Baby - Dj LOUNGE am Stattstrand
DESCRIPTION:Bevor sich das schöne Wetter wieder aus dem Staub macht wollen wir mit euch einen schönen Strandtag verbringen!\nWir erwecken das schrägste Jahrzehnt wieder zum Leben. Holt eure Fishbone Pullover\, Buffalos oder Netzhemden wieder aus dem Schrank\, denn wir feiern die 90er. Egal ob Backstreet Boys\, Spice Girls\, Dr. Alban oder Michael Jackson\, an diesem Abend ist alles erlaubt. Neben Hits gibt es natürlich auch Perlen auf die Ohren.\n\nWer immer auf dem Laufenden bleiben will\, was im Zughafen passiert\, der kann immer auf der Website vorbeischauen\, wo immer alle Veranstaltungen zu finden sind. Außerdem kann man uns auf Instagram und Facebook folgen\, wo wir alle am Tagesgeschäft teilhaben lassen.
URL:https://zughafen.de/event/90s-baby-dj-lounge-am-stattstrand/
LOCATION:Stattstrand Biergarten\, Zum Güterbahnhof 20\, Erfurt\, Thüringen\, 99085\, Deutschland
CATEGORIES:Stattstrand
ATTACH;FMTTYPE=image/jpeg:https://zughafen.de/wp-content/uploads/2021/09/90baby.jpg
END:VEVENT
BEGIN:VEVENT
DTSTART;TZID=Europe/Berlin:20210912T200000
DTEND;TZID=Europe/Berlin:20210912T220000
DTSTAMP:20260421T200641
CREATED:20210713T103926Z
LAST-MODIFIED:20210713T125504Z
UID:10000046-1631476800-1631484000@zughafen.de
SUMMARY:ERFURT - Die ganze Wahrheit
DESCRIPTION:Ein dezentraler\, partizipativer Ausstellungs- und Theaterreigen.\nURAUFFÜHRUNG!\n\nIn dem Nachfolge-Projekt zum thüringenweiten KUNSTFEST 2020-Erfolg\n»Schwimmen nach … (THÜRINGEN)« widmet sich der luxemburgische Schauspieler Steve Karier in seinem neu entwickelten partizipativen Theaterabend alten Legenden und Mythen\, neuen Fake News und Gerüchten aus und über Thüringen. Wieder geht ein Open Call voraus\, damit Bürger*innen ihre Geschichten zu ihrem Heimatort beisteuern können: 20 Abende\, 20 Orte — jeder Abend ist spezifisch auf die Lügengeschichten des Gastspielortes zugeschnitten.\nDas Projekt wird in Korrespondenz mit der gleichnamigen Ausstellungsreihe der ACC GALERIE WEIMAR entwickelt\, für die lokale Künstler*innen einzelne der eingesandten Legenden oder Gerüchte zum Anlass nehmen\, um vor Ort einen Raum künstlerisch auszugestalten.\nSo entstehen über Thüringen verteilt eine Reihe begehbarer »Lügenräume«. Karier geht in seiner Performance einen Schritt weiter\, greift das Erzählmoment auf und verbindet die thüringischen Fabeln und gut erfundenen Lügengeschichten zu einem kleinen szenischen Panorama. Denn welche Geschichte ist glaubwürdiger als die gut erzählte? Steve Karier berichtet jeden Abend die »ganze Wahrheit« über den Ort\, an dem er gerade gastiert\, in Weimar z. B. unter dem Titel »WEIMAR — Die ganze Wahrheit«. Begleitend werden je nach Pandemielage an den einzelnen Orten weiterführende\nDiskussionsrunden und Workshops angeboten\, in denen die Thüringer Bewohner*innen durch die gemeinsame Beschäftigung mit Gerüchten\, Falschmeldungen und Mythen den Realitätsgehalt unserer Lebenswelt hinterfragen können.\nHINWEIS: Weitere Informationen\nzu den angebotenen Diskussionsrunden\,\nWorkshops und Theaterabenden\nfinden Sie auf der Website des\nKUNSTFESTS WEIMAR.\n\nTickets — 10 € | ermäßigt 6 €\nDauer — 75 Minuten\nSprache — DE\nAltersempfehlung — Ab 12 Jahren\nBarrierefrei mit Anmeldung.
URL:https://zughafen.de/event/erfurt-die-ganze-wahrheit/
LOCATION:Zughafen\, Zum Güterbahnhof 20\, Erfurt\, Thüringen\, 99085\, Deutschland
CATEGORIES:Zughafen
ATTACH;FMTTYPE=image/jpeg:https://zughafen.de/wp-content/uploads/2021/07/214697642_4497112560312942_7198619963436640680_n.jpg
END:VEVENT
BEGIN:VEVENT
DTSTART;TZID=Europe/Berlin:20210911T180000
DTEND;TZID=Europe/Berlin:20210911T220000
DTSTAMP:20260421T200641
CREATED:20210906T083525Z
LAST-MODIFIED:20210907T082231Z
UID:10000143-1631383200-1631397600@zughafen.de
SUMMARY:DJ LOUNGE w/ MONOCHROMATTY FKA. MATTY ICE
DESCRIPTION:Endlich Samstag!\nLine Up:\nMonochromatty\nhttps://soundcloud.com/monochromatty
URL:https://zughafen.de/event/dj-lounge-w-monochromatty-fka-matty-ice/
LOCATION:Stattstrand Biergarten\, Zum Güterbahnhof 20\, Erfurt\, Thüringen\, 99085\, Deutschland
CATEGORIES:Stattstrand
ATTACH;FMTTYPE=image/jpeg:https://zughafen.de/wp-content/uploads/2021/07/dj_lounge.jpg
END:VEVENT
BEGIN:VEVENT
DTSTART;TZID=Europe/Berlin:20210910T180000
DTEND;TZID=Europe/Berlin:20210910T220000
DTSTAMP:20260421T200641
CREATED:20210909T131142Z
LAST-MODIFIED:20210913T084105Z
UID:10000151-1631296800-1631311200@zughafen.de
SUMMARY:Mädchendisco Open Air am Stattstrand
DESCRIPTION:Who run the world? – GIRLS!\nDie MÄDCHEN DISKO ist\, wie…der sleepover zu dem du nie eingeladen wurdest\, die Playlist auf deinem MP3-Player mit der Musik\, die deine Hüfte kreisen lässt\, wie die Chatgruppe von der du immer wissen wolltest\, worüber geredet wird.\nAn diesem Abenderwarten dich Hits und Evergreens von – ja\, richtig! – Frauen. Über Avril Lavigne\, Paramore\, The Subways\, Wir sind Helden\,Florence + The Machine bis hin zu Britney Spears und ja\, auch die Spice Girls\,werden wir deine Ohren mit starker Lady-Musik versorgen.\nSei bereit für eine ordentliche Ladung GIRLPOWER!\nDj: Courtney Lost \n  \n  \nWer immer auf dem Laufenden bleiben will\, was im Zughafen passiert\, der kann immer auf der Website vorbeischauen\, wo immer alle Veranstaltungen zu finden sind. Außerdem kann man uns auf Instagram und Facebook folgen\, wo wir alle am Tagesgeschäft teilhaben lassen.
URL:https://zughafen.de/event/maedchendisco-open-air-am-stattstrand/
LOCATION:Stattstrand Biergarten\, Zum Güterbahnhof 20\, Erfurt\, Thüringen\, 99085\, Deutschland
CATEGORIES:Stattstrand
ATTACH;FMTTYPE=image/jpeg:https://zughafen.de/wp-content/uploads/2021/09/maedchen.jpg
END:VEVENT
BEGIN:VEVENT
DTSTART;TZID=Europe/Berlin:20210910T180000
DTEND;TZID=Europe/Berlin:20210910T220000
DTSTAMP:20260421T200641
CREATED:20210906T081627Z
LAST-MODIFIED:20210909T131450Z
UID:10000142-1631296800-1631311200@zughafen.de
SUMMARY:Weekend Warm up w/ Carlo Bonanza
DESCRIPTION:Endlich Freitag!\nDie harte Woche ist rum und wir katapultieren dich direkt ins wohlverdiente Wochenende! Gute Musik\, kühle Drinks von der Bar und der kleinste Strand der Welt stimmen dich auf deine freien Tage ein.\nLine Up:\nCarlo Bonanza\, die eierlegende Wollmilchsau der Abendunterhaltung. Die Kurzwahltaste Eins der guten Laune. Der Disco-Heiland aus Jena. Er schlingelt und windet sich wieder durch die Discos der Republic. Sein imposantes Auftreten wird in der Regel nur durch seinen tropischen Mix aus Synthie Italo Beach Pop\, House\, Disco und Wave übertroffen.\n\nWer immer auf dem Laufenden bleiben will\, was im Zughafen passiert\, der kann immer auf der Website vorbeischauen\, wo immer alle Veranstaltungen zu finden sind. Außerdem kann man uns auf Instagram und Facebook folgen\, wo wir alle am Tagesgeschäft teilhaben lassen.
URL:https://zughafen.de/event/weekend-warm-up-w-carlo-bonanza/
LOCATION:Stattstrand Biergarten\, Zum Güterbahnhof 20\, Erfurt\, Thüringen\, 99085\, Deutschland
CATEGORIES:Stattstrand
ATTACH;FMTTYPE=image/jpeg:https://zughafen.de/wp-content/uploads/2021/09/carlo-bonanza.jpg
END:VEVENT
BEGIN:VEVENT
DTSTART;TZID=Europe/Berlin:20210909T183000
DTEND;TZID=Europe/Berlin:20210909T210000
DTSTAMP:20260421T200641
CREATED:20210909T131331Z
LAST-MODIFIED:20210913T084105Z
UID:10000152-1631212200-1631221200@zughafen.de
SUMMARY:Kickerturnier am Stattstrand!
DESCRIPTION:KOMM KICKERN!\nKICKERTURNIER am STATTSTRAND.\n9. September ab 18.30 Uhr\nKeine Voranmeldung nötig.\n\nWer immer auf dem Laufenden bleiben will\, was im Zughafen passiert\, der kann immer auf der Website vorbeischauen\, wo immer alle Veranstaltungen zu finden sind. Außerdem kann man uns auf Instagram und Facebook folgen\, wo wir alle am Tagesgeschäft teilhaben lassen.
URL:https://zughafen.de/event/kickerturnier-am-stattstrand/
LOCATION:Stattstrand Biergarten\, Zum Güterbahnhof 20\, Erfurt\, Thüringen\, 99085\, Deutschland
CATEGORIES:Stattstrand
ATTACH;FMTTYPE=image/jpeg:https://zughafen.de/wp-content/uploads/2021/08/komm_kickern.jpg
END:VEVENT
BEGIN:VEVENT
DTSTART;TZID=Europe/Berlin:20210907T180000
DTEND;TZID=Europe/Berlin:20210907T220000
DTSTAMP:20260421T200641
CREATED:20210830T144211Z
LAST-MODIFIED:20210907T082232Z
UID:10000139-1631037600-1631052000@zughafen.de
SUMMARY:Biergarten Quiz - SERIEN EDITION
DESCRIPTION:Das große Serien – Biergarten – Quiz am Stattstrand.\nGewinne Gewinne Gewinne! 60 Fragen – zum Thema Serien.\nIhr habt abgestimmt und die Serien Edition hat sich durchgesetzt.\nEuch erwartet ein buntes Potpourri an Fragen zu den verschiedensten Serien aus Streamingdiensten & Fernsehsendern.\nJede Runde besteht aus 10 unterschiedlich schweren Fragen.\nWer die meisten Fragen richtig beantwortet hat\, kann Punkte sammeln und am Ende den Sieg und das goldene Bier mit nach Hause nehmen.\nKeine Anmeldung nötig.\nEinfach rum kommen\, Stift und Zettel an der Bühne abholen oder selber mitbringen und ab gehts.\nWarm Up: 19.00 Uhr\nQuiz Beginn: 19.30 Uhr\n\nWer immer auf dem Laufenden bleiben will\, was im Zughafen passiert\, der kann immer auf der Website vorbeischauen\, wo immer alle Veranstaltungen zu finden sind. Außerdem kann man uns auf Instagram und Facebook folgen\, wo wir alle am Tagesgeschäft teilhaben lassen.
URL:https://zughafen.de/event/biergarten-quiz-serien-edition/
LOCATION:Stattstrand Biergarten\, Zum Güterbahnhof 20\, Erfurt\, Thüringen\, 99085\, Deutschland
CATEGORIES:Stattstrand
ATTACH;FMTTYPE=image/jpeg:https://zughafen.de/wp-content/uploads/2021/08/serien.jpg
END:VEVENT
BEGIN:VEVENT
DTSTART;TZID=Europe/Berlin:20210905T180000
DTEND;TZID=Europe/Berlin:20210905T220000
DTSTAMP:20260421T200641
CREATED:20210830T144446Z
LAST-MODIFIED:20210907T082232Z
UID:10000140-1630864800-1630879200@zughafen.de
SUMMARY:ANOЯRACK Records Vinyl Session w/Tobias Winkler\, Hypernova\,..
DESCRIPTION:Sonntags Open Air am Stattstrand Biergarten.\nUmsonst & Draussen spielen für euch:\nAnorrack Records Vinyl-Showcase mit\nTobias Winkler \, Hypernova\, Fiddow b2b And‘re Welt\n\nWir freuen uns auf euren Besuch \n\nWer immer auf dem Laufenden bleiben will\, was im Zughafen passiert\, der kann immer auf der Website vorbeischauen\, wo immer alle Veranstaltungen zu finden sind. Außerdem kann man uns auf Instagram und Facebook folgen\, wo wir alle am Tagesgeschäft teilhaben lassen.
URL:https://zughafen.de/event/ano%d1%8frack-records-vinyl-session-w-tobias-winkler-hypernova/
LOCATION:Zughafen\, Zum Güterbahnhof 20\, Erfurt\, Thüringen\, 99085\, Deutschland
CATEGORIES:Stattstrand
ATTACH;FMTTYPE=image/jpeg:https://zughafen.de/wp-content/uploads/2021/08/anorrack.jpg
END:VEVENT
BEGIN:VEVENT
DTSTART;TZID=Europe/Berlin:20210904T180000
DTEND;TZID=Europe/Berlin:20210904T220000
DTSTAMP:20260421T200641
CREATED:20210823T125801Z
LAST-MODIFIED:20210823T125910Z
UID:10000138-1630778400-1630792800@zughafen.de
SUMMARY:Juice Saturday w/ Jenny Sharp
DESCRIPTION:Als DJ der Antilopen Gang war Jenny Sharp dieses Jahr wirklich sehr beschäftigt und hat fast jede deutsche Stadt gesehen. Umsomehr freuen wir uns\, dass sie am 4. Sepetmeber Zeit hat bei uns am Strand zu spielen.\nJuicy Saturday\nDie harte Woche ist rum und wir katapultieren dich direkt ins wohlverdiente Wochenende!\nGute Musik\, kühle Drinks von der Bar und der kleinste Strand der Welt lassen dich die Woche vergessen.\nLine Up:\nJenny Sharp\nMit ihrem Podcast »Sharp Radio« fing im Jahr 2014 alles an. Seitdem konnte Jenny Sharp mit Hilfe einer Menge Support innerhalb der urbanen Clublandschaft in Deutschland und bei Festivals wie dem TH!NK? oder splash! auch live ein sicheres Händchen für eine erstklassige Selection beweisen. Ihre vielseitigen Sets bewegen sich zwischen aktuellem Hip Hop\, futuristischen Beats\, Bass Musik\, Footwork\, Grime\, bis hin zu Electronica und House.\nwww.facebook.com/missjennysharp\nwww.instagram.com/missjennysharp\nwww.mixcloud.com/sharpradio\n\nWer immer auf dem Laufenden bleiben will\, was im Zughafen passiert\, der kann immer auf der Website vorbeischauen\, wo immer alle Veranstaltungen zu finden sind. Außerdem kann man uns auf Instagram und Facebook folgen\, wo wir alle am Tagesgeschäft teilhaben lassen.
URL:https://zughafen.de/event/juice-saturday-w-jenny-sharp/
LOCATION:Zughafen\, Zum Güterbahnhof 20\, Erfurt\, Thüringen\, 99085\, Deutschland
CATEGORIES:Stattstrand
ATTACH;FMTTYPE=image/jpeg:https://zughafen.de/wp-content/uploads/2021/08/jenny_sharp.jpg
END:VEVENT
BEGIN:VEVENT
DTSTART;TZID=Europe/Berlin:20210903T180000
DTEND;TZID=Europe/Berlin:20210903T220000
DTSTAMP:20260421T200641
CREATED:20210804T105059Z
LAST-MODIFIED:20210902T100338Z
UID:10000119-1630692000-1630706400@zughafen.de
SUMMARY:Landesjugendbigband - Grooveyard No.5
DESCRIPTION:Grooveyard No.5\nAus dem Zughafen in die Welt.\n\nWer diesen Sommer noch nicht ganz genießen konnte\, der hat es noch nicht mit dem Groooveyard probiert. Denn hier kommen Junge Künstler*innen aus der Region auf die große Bühne des Stattstrands.\nManchen mag ja das Tanzbein in den trägen Coronamonaten eingeschlafen sein\, doch Thüringens Nachwuchskünstler*innen haben sich nicht ausgeruht. Mit frischem Wind und viel Elan werden Bands wie Sijeb\, Stuss oder Muntarfell das Publikum zum mit wippen bringen.\nIm Rahmen des Erfurter Kultursommers wird die Kultur der Stadt wieder angekurbelt. Wir konzentrieren uns dabei besonders auf Musizierende die in den letzten Monaten wenig Gelegenheit hatten neue Zuhörer*innen für sich zu gewinnen.\nDrum schaut vorbei\, jedes Konzert beginnt um 19.00 Uhr. Wie lange gespielt wird überlassen wir den Künstlern. Denn Vorgaben gibt es keine\, außer zu genießen. Das gilt auch für das Publikum.\n\n04.07 – Sijeb\n25.07 – Stuss\n08.08 – Jukebox Konrad Bogen\n29.08 – Spacewaste\n03.09 – Landesjugend Bigband\n19.09 – Mayberg & Band\n22.09 – Munterfel & Milonaut\n29.09 – Sijeb + Features\n\nDer Grooveyard findet statt mit Unterstützung der Landeshauptstadt Erfurt und der Sparkasse Mittelthüringen im Rahmen des #erfurtkultursommer.\n\nWas noch am Stattstrand passiert erfährst du HIER\nCheckt einfach unsere Instagram Seite für tägliche Neuigkeiten
URL:https://zughafen.de/event/grooveyard-no-5-2021-09-03/
LOCATION:Stattstrand Biergarten\, Zum Güterbahnhof 20\, Erfurt\, Thüringen\, 99085\, Deutschland
CATEGORIES:Stattstrand,Zughafen
ATTACH;FMTTYPE=image/png:https://zughafen.de/wp-content/uploads/2021/08/Groooveyard-rebranding-band-sterne-plakat-2-1-1.png
ORGANIZER;CN="Engelsburg":MAILTO:info@engelsburg.club
END:VEVENT
BEGIN:VEVENT
DTSTART;TZID=Europe/Berlin:20210829T160000
DTEND;TZID=Europe/Berlin:20210829T220000
DTSTAMP:20260421T200641
CREATED:20210804T105059Z
LAST-MODIFIED:20210810T142830Z
UID:10000118-1630252800-1630274400@zughafen.de
SUMMARY:Spacewaste - Grooveyard No.4
DESCRIPTION:Grooveyard No.4\nAus dem Zughafen in die Welt.\n\nWer diesen Sommer noch nicht ganz genießen konnte\, der hat es noch nicht mit dem Groooveyard probiert. Denn hier kommen Junge Künstler*innen aus der Region auf die große Bühne des Stattstrands.\nManchen mag ja das Tanzbein in den trägen Coronamonaten eingeschlafen sein\, doch Thüringens Nachwuchskünstler*innen haben sich nicht ausgeruht. Mit frischem Wind und viel Elan werden Bands wie Sijeb\, Stuss oder Muntarfell das Publikum zum mit wippen bringen.\nIm Rahmen des Erfurter Kultursommers wird die Kultur der Stadt wieder angekurbelt. Wir konzentrieren uns dabei besonders auf Musizierende die in den letzten Monaten wenig Gelegenheit hatten neue Zuhörer*innen für sich zu gewinnen.\nDrum schaut vorbei\, jedes Konzert beginnt um 19.00 Uhr. Wie lange gespielt wird überlassen wir den Künstlern. Denn Vorgaben gibt es keine\, außer zu genießen. Das gilt auch für das Publikum.\n\n04.07 – Sijeb\n25.07 – Stuss\n08.08 – Jukebox Konrad Bogen\n29.08 – Spacewaste\n03.09 – Landesjugend Bigband\n19.09 – Mayberg & Band\n22.09 – Munterfel & Milonaut\n29.09 – Sijeb + Features\n\nDer Grooveyard findet statt mit Unterstützung der Landeshauptstadt Erfurt und der Sparkasse Mittelthüringen im Rahmen des #erfurtkultursommer.\n\nWas noch am Stattstrand passiert erfährst du HIER\nCheckt einfach unsere Instagram Seite für tägliche Neuigkeiten
URL:https://zughafen.de/event/grooveyard-no-4-2021-08-29/
LOCATION:Stattstrand Biergarten\, Zum Güterbahnhof 20\, Erfurt\, Thüringen\, 99085\, Deutschland
CATEGORIES:Stattstrand
ATTACH;FMTTYPE=image/png:https://zughafen.de/wp-content/uploads/2021/08/Groooveyard-rebranding-band-sterne-plakat-2-.png
ORGANIZER;CN="Engelsburg":MAILTO:info@engelsburg.club
END:VEVENT
BEGIN:VEVENT
DTSTART;TZID=Europe/Berlin:20210825T180000
DTEND;TZID=Europe/Berlin:20210825T220000
DTSTAMP:20260421T200641
CREATED:20210823T125434Z
LAST-MODIFIED:20210823T125910Z
UID:10000137-1629914400-1629928800@zughafen.de
SUMMARY:Triebwerkmittwoch w/ Cosmic lila B2B einmaldrei
DESCRIPTION:Bergfest\, Halftime\, Verschnaufpause.\nDu hast die Hälfte der Woche hinter dich gebracht und das sollte gefeiert werden.\nLine Up:\nCosmic lila B2B einmaldrei\nKommt vorbei\, setz dich mit dem kühlen Drink unter den Sonnenschirm und lass die Seele baumeln\, denn das hast du dir verdient.\nJeden Mittwoch ab 16 Uhr.\n\nWer immer auf dem Laufenden bleiben will\, was im Zughafen passiert\, der kann immer auf der Website vorbeischauen\, wo immer alle Veranstaltungen zu finden sind. Außerdem kann man uns auf Instagram und Facebook folgen\, wo wir alle am Tagesgeschäft teilhaben lassen.
URL:https://zughafen.de/event/triebwerkmittwoch-w-cosmic-lila-b2b-einmaldrei/
LOCATION:Zughafen\, Zum Güterbahnhof 20\, Erfurt\, Thüringen\, 99085\, Deutschland
CATEGORIES:Stattstrand
ATTACH;FMTTYPE=image/jpeg:https://zughafen.de/wp-content/uploads/2021/08/triebwerkmittwoch.jpg
END:VEVENT
BEGIN:VEVENT
DTSTART;TZID=Europe/Berlin:20210813T160000
DTEND;TZID=Europe/Berlin:20210813T220000
DTSTAMP:20260421T200641
CREATED:20210805T091344Z
LAST-MODIFIED:20210816T092911Z
UID:10000122-1628870400-1628892000@zughafen.de
SUMMARY:WEEKEND WARM UP w/ JESSPASSERI
DESCRIPTION:Endlich Freitag!\nDie harte Woche ist rum und wir katapultieren dich direkt ins wohlverdiente Wochenende! Gute Musik\, kühle Drinks von der Bar und der kleinste Strand der Welt stimmen dich auf deine freien Tage ein.\n\nLine Up: JESSPASSERI\nJess ist nicht nur Kennerin im Bereich Deutschrap und Future Beats\, sondern supported auch die lokale Szene in Leipzig. Gleichzeitig entwickelte sie einen ausgefeilten\, tanzbaren Stil in ihren Setlists\, der zwischen pumpenden Neo- Boombap und trappy Sound problemlos wechselt.\n\n\nWas noch am Stattstrand passiert erfährst du HIER
URL:https://zughafen.de/event/weekend-warm-up-w-jesspasseri/
LOCATION:Stattstrand Biergarten\, Zum Güterbahnhof 20\, Erfurt\, Thüringen\, 99085\, Deutschland
CATEGORIES:Stattstrand
ATTACH;FMTTYPE=image/jpeg:https://zughafen.de/wp-content/uploads/2021/08/weekend.jpg
END:VEVENT
BEGIN:VEVENT
DTSTART;TZID=Europe/Berlin:20210808T160000
DTEND;TZID=Europe/Berlin:20210808T220000
DTSTAMP:20260421T200641
CREATED:20210804T105059Z
LAST-MODIFIED:20210804T110729Z
UID:10000117-1628438400-1628460000@zughafen.de
SUMMARY:Grooveyard No.3
DESCRIPTION:Grooveyard No.3\nAus dem Zughafen in die Welt.\n\nWer diesen Sommer noch nicht ganz genießen konnte\, der hat es noch nicht mit dem Groooveyard probiert. Denn hier kommen Junge Künstler*innen aus der Region auf die große Bühne des Stattstrands.\nManchen mag ja das Tanzbein in den trägen Coronamonaten eingeschlafen sein\, doch Thüringens Nachwuchskünstler*innen haben sich nicht ausgeruht. Mit frischem Wind und viel Elan werden Bands wie Sijeb\, Stuss oder Muntarfell das Publikum zum mit wippen bringen.\nIm Rahmen des Erfurter Kultursommers wird die Kultur der Stadt wieder angekurbelt. Wir konzentrieren uns dabei besonders auf Musizierende die in den letzten Monaten wenig Gelegenheit hatten neue Zuhörer*innen für sich zu gewinnen.\nDrum schaut vorbei\, jedes Konzert beginnt um 19.00 Uhr. Wie lange gespielt wird überlassen wir den Künstlern. Denn Vorgaben gibt es keine\, außer zu genießen. Das gilt auch für das Publikum.\n\n\nLive Musik in unserem Grooveyard bei entspannter Biergarten Atmosphäre.\nMit Jukebox Konrad Bogen\n\nWas noch am Stattstrand passiert erfährst du HIER\nCheckt einfach unsere Instagram Seite für tägliche Neuigkeiten
URL:https://zughafen.de/event/grooveyard-no-3-2021-08-08/
LOCATION:Stattstrand Biergarten\, Zum Güterbahnhof 20\, Erfurt\, Thüringen\, 99085\, Deutschland
CATEGORIES:Stattstrand
ATTACH;FMTTYPE=image/png:https://zughafen.de/wp-content/uploads/2021/07/Groooveyard-rebranding-band-sterne-plakat-2.png
ORGANIZER;CN="Engelsburg":MAILTO:info@engelsburg.club
END:VEVENT
BEGIN:VEVENT
DTSTART;TZID=Europe/Berlin:20210807T160000
DTEND;TZID=Europe/Berlin:20210807T220000
DTSTAMP:20260421T200641
CREATED:20210804T091400Z
LAST-MODIFIED:20210816T092911Z
UID:10000112-1628352000-1628373600@zughafen.de
SUMMARY:Strandkonzert No. 2 - SCHORL3
DESCRIPTION:UMSONST & DRAUSSEN präsentieren wir euch am 07.08.2021 ein großartiges Konzert mit der Band – SCHORL3!\nDer Name ist Programm. Spritzig und erfrischend vermischt die Band deutschen Indiepop\, Funk und R&B\, bis keiner mehr stillsitzt. 2020 gegründet\, ist SCHORL3 ein noch brandneues Projekt\, das die Kinderschuhe bereits ausgezogen hat. Die Band besteht aus drei Hamburger Jungs: dem Singer und Songwriter LMO und den Produzenten Hans & Hans.\nDer Sound ist dem Genre IndiePop zuzuordnen\, mit starken Einflüssen aus Funk\, Disco und HipHop\, und wurde von der Band selbst Sprudelpop getauft. Ästhetisch bezieht sich die Gruppe stark auf vergangene Epochen und kombiniert verschiedenste Stile zu einem eigenen. Gemeinsam mit einem Team von jungen Kreativen aus ganz Deutschland gelingt es\, ein unverwechselbares Gesamtprodukt zu schaffen\, da Klang\, Stil sowie Attitüde und Marke sich sowohl vom deutschen MainstreamPop als auch vom zeitgenössischen IndiePop abheben.\nStampfende Rhythmen\, mehrstimmiger Gesang\, die Kombination aus analogem und digitalem Sound und viel Charme sind die Kernkompetenzen der Band. Musikalische Vorbilder sind Bands wie Jamiroquai\, Daft Punk und The Neptunes.\nMit ihren ersten vier Singles „PIA“\, „GEGENVERKEHR“\, „FÜR DUMME“ und „ZU ARM“ konnten die drei Jungs 2020 auf sich aufmerksam machen. Mit „SPRUDELPOP“ hat SCHORL3 im März 2021 ihre Debüt EP veröffentlicht. Dabei schreiben\, produzieren und mixen die Drei ihre Songs komplett selbstständig und sind auch bei Artwork und Musikvideos eng involviert\, um die bandeigene Ästhetik bestmöglich umzusetzen.\nDer unverwechselbare Sound\, das Auftreten\, die Social Media Präsenz und das Image der Band\, werden dafür sorgen\, dass dieses Jahr niemand mehr an SCHORL3 vorbeikommt.\nAlso – Save The Date und besucht uns am 07. August am StattStrand für dieses Konzert-Erlebnis.\n#alleliebenschorl3\n\nWas noch am Stattstrand passiert erfährst du HIER
URL:https://zughafen.de/event/strandkonzert-no-2-schorl3/
LOCATION:Stattstrand Biergarten\, Zum Güterbahnhof 20\, Erfurt\, Thüringen\, 99085\, Deutschland
CATEGORIES:Stattstrand
ATTACH;FMTTYPE=image/jpeg:https://zughafen.de/wp-content/uploads/2021/08/schorl3.jpg
END:VEVENT
BEGIN:VEVENT
DTSTART;TZID=Europe/Berlin:20210802T193000
DTEND;TZID=Europe/Berlin:20210802T220000
DTSTAMP:20260421T200641
CREATED:20210721T105110Z
LAST-MODIFIED:20210721T152834Z
UID:10000042-1627932600-1627941600@zughafen.de
SUMMARY:Yiddish Summer Weimar - New Yiddish Music Project
DESCRIPTION:Der Yddish Summer Weimar kommt zu uns auf die Dachterrasse. Im Gepäck: Vier spannende Konzerte. \nNeue jiddische Musik umfasst traditionelle und experimentelle Arrangements traditioneller jiddischer Musik – und alles dazwischen. In diesem internationalen\, kreativen Gemeinschaftsprojekt lassen sich drei Pioniere des Klezmers und der neuen jiddischen Musik inspirieren von 100 Jahre alten Melodien\, die in der Ukraine und Belarus gesammelt wurden. Eine musikalische Reise jenseits von Ort und Zeit! \nBesetzung:\nAlan Bern (USA/D) – Klavier\, Akkordeon\nEmil Goldschmidt (DK) – Klarinette\nMark Kovnatskiy (D) – Violine\nmit Spezialgast Ilya Shneyveys (USA) – Perkussion und anderes \nEintritt: 20\,00 € / 10\,00 €\nhttps://yiddishsummer.eu/de/haupt/events/konzerte/alle-konzerte.html?eventid=173 \nFür mehr Informationen besuchen sie den Ydiish Summer Weimar auf seiner Website: https://yiddishsummer.eu \n  \nWeitere Veranstaltungen dieser Art finden sie hier.
URL:https://zughafen.de/event/yiddish-summer-weimar-new-yiddish-music-project/
LOCATION:Zughafen\, Zum Güterbahnhof 20\, Erfurt\, Thüringen\, 99085\, Deutschland
CATEGORIES:Dachterrasse,Zughafen
ATTACH;FMTTYPE=image/jpeg:https://zughafen.de/wp-content/uploads/2021/07/konzert21_projekt_nym_800.jpg
END:VEVENT
BEGIN:VEVENT
DTSTART;TZID=Europe/Berlin:20210725T160000
DTEND;TZID=Europe/Berlin:20210725T220000
DTSTAMP:20260421T200641
CREATED:20210804T105059Z
LAST-MODIFIED:20210804T110554Z
UID:10000115-1627228800-1627250400@zughafen.de
SUMMARY:Grooveyard No.2
DESCRIPTION:Grooveyard No.2\nAus dem Zughafen in die Welt.\n\nWer diesen Sommer noch nicht ganz genießen konnte\, der hat es noch nicht mit dem Groooveyard probiert. Denn hier kommen Junge Künstler*innen aus der Region auf die große Bühne des Stattstrands.\nManchen mag ja das Tanzbein in den trägen Coronamonaten eingeschlafen sein\, doch Thüringens Nachwuchskünstler*innen haben sich nicht ausgeruht. Mit frischem Wind und viel Elan werden Bands wie Sijeb\, Stuss oder Muntarfell das Publikum zum mit wippen bringen.\nIm Rahmen des Erfurter Kultursommers wird die Kultur der Stadt wieder angekurbelt. Wir konzentrieren uns dabei besonders auf Musizierende die in den letzten Monaten wenig Gelegenheit hatten neue Zuhörer*innen für sich zu gewinnen.\nDrum schaut vorbei\, jedes Konzert beginnt um 19.00 Uhr. Wie lange gespielt wird überlassen wir den Künstlern. Denn Vorgaben gibt es keine\, außer zu genießen. Das gilt auch für das Publikum.\n\nLive Musik in unserem Grooveyard bei entspannter Biergarten Atmosphäre.\nMit Stuss\n\nWas noch am Stattstrand passiert erfährst du HIER\nCheckt einfach unsere Instagram Seite für tägliche Neuigkeiten
URL:https://zughafen.de/event/grooveyard-no-2/2021-07-25/
LOCATION:Stattstrand Biergarten\, Zum Güterbahnhof 20\, Erfurt\, Thüringen\, 99085\, Deutschland
CATEGORIES:Stattstrand
ATTACH;FMTTYPE=image/png:https://zughafen.de/wp-content/uploads/2021/07/Groooveyard-rebranding-band-sterne-plakat-2.png
ORGANIZER;CN="Engelsburg":MAILTO:info@engelsburg.club
END:VEVENT
END:VCALENDAR