BEGIN:VCALENDAR
VERSION:2.0
PRODID:-//Zughafen - ECPv6.15.20//NONSGML v1.0//EN
CALSCALE:GREGORIAN
METHOD:PUBLISH
X-ORIGINAL-URL:https://zughafen.de
X-WR-CALDESC:Veranstaltungen für Zughafen
REFRESH-INTERVAL;VALUE=DURATION:PT1H
X-Robots-Tag:noindex
X-PUBLISHED-TTL:PT1H
BEGIN:VTIMEZONE
TZID:Europe/Berlin
BEGIN:DAYLIGHT
TZOFFSETFROM:+0100
TZOFFSETTO:+0200
TZNAME:CEST
DTSTART:20210328T010000
END:DAYLIGHT
BEGIN:STANDARD
TZOFFSETFROM:+0200
TZOFFSETTO:+0100
TZNAME:CET
DTSTART:20211031T010000
END:STANDARD
BEGIN:DAYLIGHT
TZOFFSETFROM:+0100
TZOFFSETTO:+0200
TZNAME:CEST
DTSTART:20220327T010000
END:DAYLIGHT
BEGIN:STANDARD
TZOFFSETFROM:+0200
TZOFFSETTO:+0100
TZNAME:CET
DTSTART:20221030T010000
END:STANDARD
BEGIN:DAYLIGHT
TZOFFSETFROM:+0100
TZOFFSETTO:+0200
TZNAME:CEST
DTSTART:20230326T010000
END:DAYLIGHT
BEGIN:STANDARD
TZOFFSETFROM:+0200
TZOFFSETTO:+0100
TZNAME:CET
DTSTART:20231029T010000
END:STANDARD
END:VTIMEZONE
BEGIN:VEVENT
DTSTART;VALUE=DATE:20220610
DTEND;VALUE=DATE:20220912
DTSTAMP:20260419T152201
CREATED:20220302T135546Z
LAST-MODIFIED:20220713T191311Z
UID:10000173-1654819200-1662940799@zughafen.de
SUMMARY:StattStrand Biergarten
DESCRIPTION:Der StattStrand Biergarten kommt zurück! Hier wird euch an den lauen Sommertagen wieder ausreichend Erfrischung an der Bar und im Programm geboten. Tolle Abende mit Konzerten\, DJ´s und Spielen erwarten euch.Das aktuelle Programm findet ihr HIER. \nUnsere Neuen Öffnungszeiten:MI: 18:00 – 22:00 UhrDO: 18:00 – 22:00 UhrFR: 18:00 – 22:00 UhrSA: 16:00 – 22:00 UhrSO: 16:00 – 22:00 Uhr \nAuch das Veranstaltungsgelände hat sich wieder verändert und bietet euch einen erholsamen Platz. \nGemeinsam mit der Engelsburg und Foodcraft kümmern wir uns um eure Sommergestaltung.Schaut vorbei und lasst euch überraschen. \nWeitere Infos folgen zu gegebener Zeit auf unseren Social Media Kanälen:Instagram:   @stattstrand_biergarten   /   @zughafenkulturbahnof   /   @kulturzentrum_engelsburgFacebook:   StattStrand   /   Zughafen   /   Engelsburg
URL:https://zughafen.de/event/stattstrand-biergarten/
LOCATION:Stattstrand Biergarten\, Zum Güterbahnhof 20\, Erfurt\, Thüringen\, 99085\, Deutschland
CATEGORIES:Stattstrand,Zughafen
ATTACH;FMTTYPE=image/jpeg:https://zughafen.de/wp-content/uploads/2022/03/stst.jpg
END:VEVENT
BEGIN:VEVENT
DTSTART;TZID=Europe/Berlin:20220701T160000
DTEND;TZID=Europe/Berlin:20220701T160000
DTSTAMP:20260419T152201
CREATED:20220615T115529Z
LAST-MODIFIED:20220706T092306Z
UID:10000207-1656691200-1656691200@zughafen.de
SUMMARY:DONKEY KID LIVE + COURTNEY LOST am STATTSTRAND - EINTRITT FREI
DESCRIPTION:DONKEY KID LIVE + COURTNEY LOST am STATTSTRAND \nLine Up:\nDONKEY KID (LIVE)\nCOURTNEY LOST (DJ-SET)\nEintritt: Frei.\nStagetime: 20 Uhr \nIst es 1971\, 1983 oder schon 2021? Wer den nostalgischen und trotzdem zeitlosen Sound von Donkey Kid hört\, der macht eine Zeitreise. In welches Jahrzehnt es uns dabei verschlägt\, das bleibt uns selbst überlassen. Die erste Single des Newcomers sorgt mit seichten Ambientsamples\, treibenden Drums und rohen Gitarren-Chords dieser Tage jedoch für Aufregung im deutschsprachigen Indie-Game und wirft die Frage auf: Wer steckt hinter „Linger On“?\nEine passende Antwort darauf haben wir für euch leider auch nicht parat\, aber soviel sei gesagt: Donkey Kid ist 19 Jahre alt und ein echtes Hauptstadt-Kind. Der talentierte Singer-Songwriter wächst in Berlin-Steglitz auf und versucht sich zunächst in gängiger DIY-Manier als „Bedroom-Producer“. Er beginnt damit\, eigene Songs zu schreiben\, die sich aus den unterschiedlichsten musikalischen Einflüssen zu einem harmonischen Ganzen zusammenfügen. So finden ebenso Jimi Hendrix und psychedelische Rock-Vibes wie auch glänzende Synthies und tragische 80er-Jahre New-Romantic Motive ihren Weg in Donkey Kids Musik. \n  \nWer immer auf dem Laufenden bleiben will\, was im Zughafen passiert\, der kann immer auf der Website vorbeischauen\, wo immer alle Veranstaltungen zu finden sind. Außerdem kann man uns auf Instagram und Facebook folgen\, wo wir alle am Tagesgeschäft teilhaben lassen.
URL:https://zughafen.de/event/donkey-kid-live-courtney-lost-am-stattstrand-eintritt-frei/
LOCATION:Stattstrand Biergarten\, Zum Güterbahnhof 20\, Erfurt\, Thüringen\, 99085\, Deutschland
CATEGORIES:Stattstrand,Zughafen
ATTACH;FMTTYPE=image/jpeg:https://zughafen.de/wp-content/uploads/2022/06/donke.jpg
END:VEVENT
BEGIN:VEVENT
DTSTART;VALUE=DATE:20220731
DTEND;VALUE=DATE:20220908
DTSTAMP:20260419T152201
CREATED:20220720T093357Z
LAST-MODIFIED:20220810T114714Z
UID:10000222-1659225600-1662595199@zughafen.de
SUMMARY:Grooveyard Konzerte im StattStrand
DESCRIPTION:Hole dir neuen Input für deine Playlisten bei Live Konzerten im Sonnenuntergang. Im Stattstrand Biergarten grooven auch dieses Jahr junge MusikerInnen aus deiner Umgebung kostenfrei. Schnapp dir deine Freunde und genießt ein paar kühle Getränke gepaart mit heißen Newcomer Bands. \n„Mit Unterstützung der Landeshauptstadt Erfurt und der Sparkasse Mittelthüringen im Rahmen des #erfurtkultursommer.“ \n-Das Programm- \n31.07 Fred Garden\n02.08 Munterfel\n27.08 Wegen Regen Kollektiv mit Aftershow Party\n07.09 Searching for Home & Zündstufe #6 \nBiergarten öffnet ab 18:00 Uhr\, Showtime immer 20:00 Uhr \n \n 
URL:https://zughafen.de/event/grooveyard-konzerte-im-stattstrand/
LOCATION:Stattstrand Biergarten\, Zum Güterbahnhof 20\, Erfurt\, Thüringen\, 99085\, Deutschland
CATEGORIES:Stattstrand,Zughafen
ATTACH;FMTTYPE=image/webp:https://zughafen.de/wp-content/uploads/2022/07/Groooveyard-rebranding-band-sterne-plakat-2-1-2.png.webp
END:VEVENT
BEGIN:VEVENT
DTSTART;TZID=Europe/Berlin:20220731T200000
DTEND;TZID=Europe/Berlin:20220731T200000
DTSTAMP:20260419T152201
CREATED:20220720T095158Z
LAST-MODIFIED:20220727T141805Z
UID:10000223-1659297600-1659297600@zughafen.de
SUMMARY:Fred Garden - Grooveyard Session
DESCRIPTION:Fred Garden – Grooveyard Session 22 #1\nStart 20:00 Uhr im Stattstrand Biergarten\nEintritt kostenfrei \nGarten und Strand – zwei Orte die erstmal nicht viel gemeinsam haben\, aber dann irgendwie doch ein ähnliches Gefühl vermitteln. Dem Alltag entfliehen und dem Körper eine Auszeit gönnen. Jedoch ist der Stattstrand kein richtiger Strand und Fred Garden kein echter Garten\, aber das Gefühl\, dass die beiden vermitteln lässt sich wunderbar mit diesen Worten assoziieren. \nWir freuen uns auf die Eröffnung der Groove Yard Konzerte 2022 mit einer großartigen Band. \nZu unseren Gästen:\nFred Garden eine achtköpfige Kombo aus Berlin\, die spielerisch die Grenzen von Jazz\, R’n’B und Hip-Hop umreißt. Vielschichtige Kompositionen mit polyrhythmischen Grooves treffen auf satte Harmonien einer dreiköpfigen Saxofon-Section. Treibende Basslines legen das Fundament für umhüllende Gesangsmelodien und ekstatische Soli. \nHier ein kleiner Vorgeschmack was ihr zusehen bekommt:   https://vimeo.com/\nMehr findet ihr auf Instagram\, Youtube\, Facebook\, Spotify oder der eigenen Webseite. \n„Mit Unterstützung der Landeshauptstadt Erfurt und der Sparkasse Mittelthüringen im Rahmen des #erfurtkultursommer.“ \nWer immer auf dem Laufenden bleiben will\, was im Zughafen passiert\, der kann immer auf der Website vorbeischauen\, wo immer alle Veranstaltungen zu finden sind. Außerdem kann man uns auf Instagram und Facebook folgen\, wo wir alle am Tagesgeschäft teilhaben lassen.
URL:https://zughafen.de/event/fred-garden-groveyard-session/
LOCATION:Stattstrand Biergarten\, Zum Güterbahnhof 20\, Erfurt\, Thüringen\, 99085\, Deutschland
CATEGORIES:Stattstrand,Zughafen
ATTACH;FMTTYPE=image/webp:https://zughafen.de/wp-content/uploads/2022/07/fred_garden.jpg.webp
END:VEVENT
END:VCALENDAR