BEGIN:VCALENDAR
VERSION:2.0
PRODID:-//Zughafen - ECPv6.15.20//NONSGML v1.0//EN
CALSCALE:GREGORIAN
METHOD:PUBLISH
X-ORIGINAL-URL:https://zughafen.de
X-WR-CALDESC:Veranstaltungen für Zughafen
REFRESH-INTERVAL;VALUE=DURATION:PT1H
X-Robots-Tag:noindex
X-PUBLISHED-TTL:PT1H
BEGIN:VTIMEZONE
TZID:Europe/Berlin
BEGIN:DAYLIGHT
TZOFFSETFROM:+0100
TZOFFSETTO:+0200
TZNAME:CEST
DTSTART:20210328T010000
END:DAYLIGHT
BEGIN:STANDARD
TZOFFSETFROM:+0200
TZOFFSETTO:+0100
TZNAME:CET
DTSTART:20211031T010000
END:STANDARD
BEGIN:DAYLIGHT
TZOFFSETFROM:+0100
TZOFFSETTO:+0200
TZNAME:CEST
DTSTART:20220327T010000
END:DAYLIGHT
BEGIN:STANDARD
TZOFFSETFROM:+0200
TZOFFSETTO:+0100
TZNAME:CET
DTSTART:20221030T010000
END:STANDARD
BEGIN:DAYLIGHT
TZOFFSETFROM:+0100
TZOFFSETTO:+0200
TZNAME:CEST
DTSTART:20230326T010000
END:DAYLIGHT
BEGIN:STANDARD
TZOFFSETFROM:+0200
TZOFFSETTO:+0100
TZNAME:CET
DTSTART:20231029T010000
END:STANDARD
END:VTIMEZONE
BEGIN:VEVENT
DTSTART;TZID=Europe/Berlin:20220602T200000
DTEND;TZID=Europe/Berlin:20220602T230000
DTSTAMP:20260419T164238
CREATED:20210804T093253Z
LAST-MODIFIED:20220602T092958Z
UID:10000116-1654200000-1654210800@zughafen.de
SUMMARY:Gianna Nannini // Erfurt // Openair
DESCRIPTION:Gianna Nannini›La Differenza‹ Live 2022präsentiert von event.Magazin\, kulturnews\n02.06.2022 Erfurt – Zughafen – Openair\nEinlass 19 Uhr\nKonzerbeginn 20 Uhr\nEs gibt kaum eine größere Ikone der italienischen Rockmusik als die 63-jährige Songwriterin und Sängerin mit der markanten rauen Stimme. Mit Songs wie ›America‹\, ›Latin Lover‹\, ›Fotoromanza‹\, ›Bello e impossibile‹ oder ›I maschi‹ wurde sie auch weit über die Landesgrenzen ihrer Heimat hinaus bekannt und gilt heute als eine der wichtigsten weiblichen Stimmen Italiens – nicht nur in Sachen Musik\, sondern auch dann\, wenn es um klare Haltung zu unbequemen aktuellen Themen geht.\nAm 11. Oktober veröffentlichte Gianna Nannini ihr 19. Album ›La Differenza‹\, das sie gleich zweimal nach Deutschland führt: Vier Open Air Konzerte stehen im Juni auf ihrem Tourneeplan\, bevor sie im Oktober 2020 für sechs weitere Shows in Hallen und Konzerthäuser zurückkehrt. Doch egal\, ob unter freiem Himmel oder Indoor: Ihre umwerfende Energie wird das Publikum so oder so ab dem ersten Song mitreißen!\nDie Tickets sind Online verfügbar.\n \nGetränke und ein kleiner Imbiss befinden sich auf dem Konzertgelände.\nParkplätze gibt es vor dem Zughafen auf dem Contipark Parkplatz für 2\,50€.\nFalls diese voll sind\, umliegende Parkhäuser nutzen!\nAuf dem Bahngelände herrscht striktes Parkverbot.\n \nWas noch im Zughafen passiert erfährst du HIER
URL:https://zughafen.de/event/gianna-nannini-erfurt/
LOCATION:Zughafen\, Zum Güterbahnhof 20\, Erfurt\, Thüringen\, 99085\, Deutschland
CATEGORIES:Halle 6,Zughafen
ATTACH;FMTTYPE=image/jpeg:https://zughafen.de/wp-content/uploads/2021/08/gianna-naninni.jpg
END:VEVENT
BEGIN:VEVENT
DTSTART;VALUE=DATE:20220610
DTEND;VALUE=DATE:20220912
DTSTAMP:20260419T164238
CREATED:20220302T135546Z
LAST-MODIFIED:20220713T191311Z
UID:10000173-1654819200-1662940799@zughafen.de
SUMMARY:StattStrand Biergarten
DESCRIPTION:Der StattStrand Biergarten kommt zurück! Hier wird euch an den lauen Sommertagen wieder ausreichend Erfrischung an der Bar und im Programm geboten. Tolle Abende mit Konzerten\, DJ´s und Spielen erwarten euch.Das aktuelle Programm findet ihr HIER. \nUnsere Neuen Öffnungszeiten:MI: 18:00 – 22:00 UhrDO: 18:00 – 22:00 UhrFR: 18:00 – 22:00 UhrSA: 16:00 – 22:00 UhrSO: 16:00 – 22:00 Uhr \nAuch das Veranstaltungsgelände hat sich wieder verändert und bietet euch einen erholsamen Platz. \nGemeinsam mit der Engelsburg und Foodcraft kümmern wir uns um eure Sommergestaltung.Schaut vorbei und lasst euch überraschen. \nWeitere Infos folgen zu gegebener Zeit auf unseren Social Media Kanälen:Instagram:   @stattstrand_biergarten   /   @zughafenkulturbahnof   /   @kulturzentrum_engelsburgFacebook:   StattStrand   /   Zughafen   /   Engelsburg
URL:https://zughafen.de/event/stattstrand-biergarten/
LOCATION:Stattstrand Biergarten\, Zum Güterbahnhof 20\, Erfurt\, Thüringen\, 99085\, Deutschland
CATEGORIES:Stattstrand,Zughafen
ATTACH;FMTTYPE=image/jpeg:https://zughafen.de/wp-content/uploads/2022/03/stst.jpg
END:VEVENT
BEGIN:VEVENT
DTSTART;TZID=Europe/Berlin:20220611T200000
DTEND;TZID=Europe/Berlin:20220611T230000
DTSTAMP:20260419T164238
CREATED:20220228T120656Z
LAST-MODIFIED:20220525T105851Z
UID:10000172-1654977600-1654988400@zughafen.de
SUMMARY:Panda Lux "Fun Fun Fun Tour" - Erfurt
DESCRIPTION:Panda Lux in Erfurt. Mit ihrem neuen Album „Fun Fun Fun“ gehen die Schweizer Multiinstrumentalisten von PANDA LUX auf Deutschlandtour! \n„Fun Fun Fun – Tour 2022“präsentiert von The Pick & Schall. Musikmagazin11.06.2022(verlegt vom 19.12.2020 & 02.12.2021)Erfurt\, STATTSTRAND BIERGARTENBeginn: 20::00 Uhr\nNach der Nomination für den Swiss Music Award mit ihrem gefeierten Debut „Versailles“ im Jahr 2018 und der danach folgenden EP „Zoo“ erschien 2020 das zweite PANDA LUX-Album.Damit werden die vier Multi-Instrumentalisten aus der Schweiz auch wieder Deutschland unsicher machen – das Motto: Fun\, Fun\, Fun! Freut euch also auf jede Menge Spaß und tanzbare Indie-Songs.Den „Fahrschein ins Glück“ kann man sich schon heute sichern. Die Tickets für die Tour sind nämlich ab sofort im Vorverkauf erhältlich.\n \nÜber Spotify könnt ihr bei der Band auch gerne mal reinhören! \nDie Tickets findet ihr auf Ticket Undercover. \n  \nWer immer auf dem Laufenden bleiben will\, was im Zughafen passiert\, der kann immer auf der Website vorbeischauen\, wo immer alle Veranstaltungen zu finden sind. Außerdem kann man uns auf Instagram und Facebook folgen\, wo wir alle am Tagesgeschäft teilhaben lassen.
URL:https://zughafen.de/event/panda-lux-fun-fun-fun-tour/
LOCATION:Zughafen\, Zum Güterbahnhof 20\, Erfurt\, Thüringen\, 99085\, Deutschland
CATEGORIES:Stattstrand,Zughafen
ATTACH;FMTTYPE=image/jpeg:https://zughafen.de/wp-content/uploads/2021/12/pandalux.jpg
END:VEVENT
BEGIN:VEVENT
DTSTART;TZID=Europe/Berlin:20220624T160000
DTEND;TZID=Europe/Berlin:20220624T160000
DTSTAMP:20260419T164238
CREATED:20220603T101928Z
LAST-MODIFIED:20220603T102139Z
UID:10000201-1656086400-1656086400@zughafen.de
SUMMARY:HIP HOP OPEN AIR w/ YRRRE LIVE + RADIO BOUNCE
DESCRIPTION:Der Sommer wird heiß an deinem Lieblingsstrand.\nWir holen YRRRE nach Erfurt!\nNachdem er als Support von DISSY bereits im KAlif Storch alles abgerissen hat\, freuen wir uns nun auf ein komplettes Konzert in Erfurt!\nVor und nach dem Konzert versorgt RADIO BOUNCE euer Ohr mit feinsten Beats\, Hits & Hypes der Szene.\nDer Eintritt ist frei.\n\n\nYRRRE – Feinstaub\n„Feinstaub“\, das neue\, zweite Album von YRRRE\, ist auf vielen verschiedenen Ebenen erstaunlich. Hier schreibt jemand mit einer Selbstverständlichkeit Sätze\,Zeilen und Texte\, die es so noch nicht gegeben hat. Assoziativ und intuitiv\, aber doch auf den Punkt\, verpackt YRRRE in scheinbar beiläufigen Beobachtungen und Bekundungen all den Schmerz und die Schönheit dieses Wahnsinns namens Leben. Damit berührt er mal ganz zart und behutsam und trifft einen dann wieder mit vollerWucht in die Magengegend.\n\nZum ersten Mal wurde einem das schon auf YRRREs selbstbetiteltem Debüt gewahr\, welches der Rapper\, Sänger und Produzent 2018 im Eigenvertrieb vorlegte. Irgendwo zwischen „Berlin No. 1“ und Blink 182\, „blond“ und „Beerbongs & Bentleys”\, Rap und R&B war „YRRRE“ ein vertonter Versuch\, all die Gedanken im Kopf und Gefühle im Herzen zu sortieren. Die zehn Songs handelten von Erkenntnisgewinn\nund Eigentherapie\, Todessehnsucht und Weltübernahmefantasien\, vom nüchtern sein\, nicht mehr nüchtern sein und trotz oder wegen allem nichts mehr fühlen.\n\n„Ich kam zu der Zeit gerade aus einer Beziehung und alles war scheiße“\, erinnertsich YRRRE.\n„Ich bin todesunglücklich gewesen und habe mich von einem Tief zum\nnächsten geschleppt. Ich bin nicht mehr zur Arbeit gegangen\, habe mich krankschreiben lassen. Ich habe die Rollos runtergelassen und mich in meinem Zimmer eingeschlossen\, bis mein Mitbewohner sich Sorgen gemacht hat. Aber wenn ich Musik gemacht habe\, war alles nicht mehr so beschissen.“\nUnd auf einmal wird es aus dem vermeintlichen Schwachsinns-Hobby eine echte Chance. Auf „YRRRE“ folgen ein Support-Slot auf der „Diskman Antishock“-Tour von Goldroger sowie Features auf den Alben von und Zusammenarbeiten mit Künstler:innen wie Dexter\, Fatoni und Benno Gut. Auf den Umzug nach Berlin folgt ein weiterer Umzug nach Leipzig – und jetzt das zweite Album mit dem Titel\n„Feinstaub“\n\nYRRRE:\nhttps://www.instagram.com/ichbinyrrre/\nhttps://www.youtube.com/channel/UC9O6M1K8hx7IHYelYPofAPQ\n\nWer immer auf dem Laufenden bleiben will\, was im Zughafen passiert\, der kann immer auf der Website vorbeischauen\, wo immer alle Veranstaltungen zu finden sind. Außerdem kann man uns auf Instagram und Facebook folgen\, wo wir alle am Tagesgeschäft teilhaben lassen.
URL:https://zughafen.de/event/hip-hop-open-air-w-yrrre-live-radio-bounce/
LOCATION:Stattstrand Biergarten\, Zum Güterbahnhof 20\, Erfurt\, Thüringen\, 99085\, Deutschland
CATEGORIES:Stattstrand,Zughafen
ATTACH;FMTTYPE=image/jpeg:https://zughafen.de/wp-content/uploads/2022/06/yrre.jpg
END:VEVENT
END:VCALENDAR