BEGIN:VCALENDAR
VERSION:2.0
PRODID:-//Zughafen - ECPv6.15.20//NONSGML v1.0//EN
CALSCALE:GREGORIAN
METHOD:PUBLISH
X-ORIGINAL-URL:https://zughafen.de
X-WR-CALDESC:Veranstaltungen für Zughafen
REFRESH-INTERVAL;VALUE=DURATION:PT1H
X-Robots-Tag:noindex
X-PUBLISHED-TTL:PT1H
BEGIN:VTIMEZONE
TZID:Europe/Berlin
BEGIN:DAYLIGHT
TZOFFSETFROM:+0100
TZOFFSETTO:+0200
TZNAME:CEST
DTSTART:20200329T010000
END:DAYLIGHT
BEGIN:STANDARD
TZOFFSETFROM:+0200
TZOFFSETTO:+0100
TZNAME:CET
DTSTART:20201025T010000
END:STANDARD
BEGIN:DAYLIGHT
TZOFFSETFROM:+0100
TZOFFSETTO:+0200
TZNAME:CEST
DTSTART:20210328T010000
END:DAYLIGHT
BEGIN:STANDARD
TZOFFSETFROM:+0200
TZOFFSETTO:+0100
TZNAME:CET
DTSTART:20211031T010000
END:STANDARD
BEGIN:DAYLIGHT
TZOFFSETFROM:+0100
TZOFFSETTO:+0200
TZNAME:CEST
DTSTART:20220327T010000
END:DAYLIGHT
BEGIN:STANDARD
TZOFFSETFROM:+0200
TZOFFSETTO:+0100
TZNAME:CET
DTSTART:20221030T010000
END:STANDARD
END:VTIMEZONE
BEGIN:VEVENT
DTSTART;TZID=Europe/Berlin:20211003T180000
DTEND;TZID=Europe/Berlin:20211003T180000
DTSTAMP:20260420T044421
CREATED:20210810T144234Z
LAST-MODIFIED:20210927T110409Z
UID:10000124-1633284000-1633284000@zughafen.de
SUMMARY:Sijeb\, Spacewaste & Atkov -  Grooveyard No. 8
DESCRIPTION:Grooveyard No.8\nAus dem Zughafen in die Welt.\n\nWer diesen Sommer noch nicht ganz genießen konnte\, der hat es noch nicht mit dem Groooveyard probiert. Denn hier kommen Junge Künstler*innen aus der Region auf die große Bühne des Stattstrands.\nManchen mag ja das Tanzbein in den trägen Coronamonaten eingeschlafen sein\, doch Thüringens Nachwuchskünstler*innen haben sich nicht ausgeruht. Mit frischem Wind und viel Elan werden Bands wie Sijeb\, Stuss oder Muntarfell das Publikum zum mit wippen bringen.\nIm Rahmen des Erfurter Kultursommers wird die Kultur der Stadt wieder angekurbelt. Wir konzentrieren uns dabei besonders auf Musizierende die in den letzten Monaten wenig Gelegenheit hatten neue Zuhörer*innen für sich zu gewinnen.\nDrum schaut vorbei\, jedes Konzert beginnt um 19.00 Uhr. Wie lange gespielt wird überlassen wir den Künstlern. Denn Vorgaben gibt es keine\, außer zu genießen. Das gilt auch für das Publikum.\n\n04.07 – Sijeb\n25.07 – Stuss\n08.08 – Jukebox Konrad Bogen\n29.08 – Spacewaste\n03.09 – Landesjugend Bigband\n19.09 – Mayberg & Band\n22.09 – Munterfel & Milonaut\n03.10- Sijeb\, Spacewaste & Atkov\n\nDer Grooveyard findet statt mit Unterstützung der Landeshauptstadt Erfurt und der Sparkasse Mittelthüringen im Rahmen des #erfurtkultursommer.\n\nWas noch am Stattstrand passiert erfährst du HIER\nCheckt einfach unsere Instagram Seite für tägliche Neuigkeiten
URL:https://zughafen.de/event/sijeb-grooveyard-no-8/
LOCATION:Zughafen\, Zum Güterbahnhof 20\, Erfurt\, Thüringen\, 99085\, Deutschland
CATEGORIES:Stattstrand,Zughafen
ATTACH;FMTTYPE=image/png:https://zughafen.de/wp-content/uploads/2021/08/Groooveyard-rebranding-band-sterne-plakat-2-1-2.png
END:VEVENT
END:VCALENDAR