BEGIN:VCALENDAR
VERSION:2.0
PRODID:-//Zughafen - ECPv6.15.20//NONSGML v1.0//EN
CALSCALE:GREGORIAN
METHOD:PUBLISH
X-WR-CALNAME:Zughafen
X-ORIGINAL-URL:https://zughafen.de
X-WR-CALDESC:Veranstaltungen für Zughafen
REFRESH-INTERVAL;VALUE=DURATION:PT1H
X-Robots-Tag:noindex
X-PUBLISHED-TTL:PT1H
BEGIN:VTIMEZONE
TZID:Europe/Berlin
BEGIN:DAYLIGHT
TZOFFSETFROM:+0100
TZOFFSETTO:+0200
TZNAME:CEST
DTSTART:20200329T010000
END:DAYLIGHT
BEGIN:STANDARD
TZOFFSETFROM:+0200
TZOFFSETTO:+0100
TZNAME:CET
DTSTART:20201025T010000
END:STANDARD
BEGIN:DAYLIGHT
TZOFFSETFROM:+0100
TZOFFSETTO:+0200
TZNAME:CEST
DTSTART:20210328T010000
END:DAYLIGHT
BEGIN:STANDARD
TZOFFSETFROM:+0200
TZOFFSETTO:+0100
TZNAME:CET
DTSTART:20211031T010000
END:STANDARD
BEGIN:DAYLIGHT
TZOFFSETFROM:+0100
TZOFFSETTO:+0200
TZNAME:CEST
DTSTART:20220327T010000
END:DAYLIGHT
BEGIN:STANDARD
TZOFFSETFROM:+0200
TZOFFSETTO:+0100
TZNAME:CET
DTSTART:20221030T010000
END:STANDARD
END:VTIMEZONE
BEGIN:VEVENT
DTSTART;TZID=Europe/Berlin:20210903T180000
DTEND;TZID=Europe/Berlin:20210903T220000
DTSTAMP:20260420T062050
CREATED:20210804T105059Z
LAST-MODIFIED:20210902T100338Z
UID:10000119-1630692000-1630706400@zughafen.de
SUMMARY:Landesjugendbigband - Grooveyard No.5
DESCRIPTION:Grooveyard No.5\nAus dem Zughafen in die Welt.\n\nWer diesen Sommer noch nicht ganz genießen konnte\, der hat es noch nicht mit dem Groooveyard probiert. Denn hier kommen Junge Künstler*innen aus der Region auf die große Bühne des Stattstrands.\nManchen mag ja das Tanzbein in den trägen Coronamonaten eingeschlafen sein\, doch Thüringens Nachwuchskünstler*innen haben sich nicht ausgeruht. Mit frischem Wind und viel Elan werden Bands wie Sijeb\, Stuss oder Muntarfell das Publikum zum mit wippen bringen.\nIm Rahmen des Erfurter Kultursommers wird die Kultur der Stadt wieder angekurbelt. Wir konzentrieren uns dabei besonders auf Musizierende die in den letzten Monaten wenig Gelegenheit hatten neue Zuhörer*innen für sich zu gewinnen.\nDrum schaut vorbei\, jedes Konzert beginnt um 19.00 Uhr. Wie lange gespielt wird überlassen wir den Künstlern. Denn Vorgaben gibt es keine\, außer zu genießen. Das gilt auch für das Publikum.\n\n04.07 – Sijeb\n25.07 – Stuss\n08.08 – Jukebox Konrad Bogen\n29.08 – Spacewaste\n03.09 – Landesjugend Bigband\n19.09 – Mayberg & Band\n22.09 – Munterfel & Milonaut\n29.09 – Sijeb + Features\n\nDer Grooveyard findet statt mit Unterstützung der Landeshauptstadt Erfurt und der Sparkasse Mittelthüringen im Rahmen des #erfurtkultursommer.\n\nWas noch am Stattstrand passiert erfährst du HIER\nCheckt einfach unsere Instagram Seite für tägliche Neuigkeiten
URL:https://zughafen.de/event/grooveyard-no-5-2021-09-03/
LOCATION:Stattstrand Biergarten\, Zum Güterbahnhof 20\, Erfurt\, Thüringen\, 99085\, Deutschland
CATEGORIES:Stattstrand,Zughafen
ATTACH;FMTTYPE=image/png:https://zughafen.de/wp-content/uploads/2021/08/Groooveyard-rebranding-band-sterne-plakat-2-1-1.png
ORGANIZER;CN="Engelsburg":MAILTO:info@engelsburg.club
END:VEVENT
BEGIN:VEVENT
DTSTART;TZID=Europe/Berlin:20210903T193000
DTEND;TZID=Europe/Berlin:20210903T220000
DTSTAMP:20260420T062050
CREATED:20210812T105742Z
LAST-MODIFIED:20210902T161528Z
UID:10000126-1630697400-1630706400@zughafen.de
SUMMARY:SHELTER BOY LIVE - ZUGHAFEN OPEN AIR
DESCRIPTION:SHELTER BOY kommt nach Erfurt!\n„Aus den Trümmern der von beschissener Trap-Musik überschwemmten Welt erhebt sich ein neuer Superheld.“(Picky Magazine)\n\nAnfangs oftals deutscher Mac DeMarco verheißen\, hat Simon Graupner alias SHELTER BOY schnell seinen ganz eigenen Stil zwischen Indie-Rock und Dreampop\, verträumten Gitarrensounds und einer Rauheit\, die eher an King Krule erinnert\, gefunden. „All in“ war und ist von Beginn an das Motto von SHELTER BOY: Auf seiner Debüt-EP „Mirage Morning“(2019) überlagert eine überraschende Mühelosigkeit die eigentliche Auseinandersetzung mit seiner komplexen Gefühlswelt.\n\nIm Januar 2020 veröffentlichte er seine zweite EP „Rock’n’Roll saved my Childhood (lel)“. Die aktuelle Single „Terrace“ (VÖ 11.06.2021) ist Teil des kommenden SHELTER BOY Debüt-Albums „Failure Familiar“ und bildet einen Blick in die Zukunft ab: Einen Blick darauf\, wie es sein könnte\, diese Zukunft mit jemandem zu teilen\, gemeinsam auf einer Terrasse zu sitzen\, cosy Schach zu spielen und den Lebensabend zu genießen.\n\nEinen Blick auf Zuversicht\, auf Vorfreude und auf Träumereien. Zusammen mit dem chilenisch-norwegischen Künstler Boy Pablo schnappt sich SHELTER BOY dieses Gefühl und macht es sich musikalisch zu eigen. Eine Kombination\, die dreamy\, luftig und optimistisch daher kommt.\n\nIm Jahr 2019 hat er bereits auf diversen Festivals (Immergut\, Artlake\, Rocken am Brocken\,…) und als Opener für Gus Dapperton\, Yakub Ogawaund Omar Apollo gespielt. Ende Januar 2020 folgte die erste eigene Headline-Tour durch Deutschland. Erste Band-und Bühnenerfahrungen sammelte Simon Graupner als Co-Frontmann und Gitarrist der Indie-Band StillTrees\, bevor er sich entschied\, den Ego-Trip zu schieben und seine Hirngespinste zu verwirklichen.\n\nAuf der Bühne treffen gemeinsam mit seiner so genannten Shelly-Family derbe Sprüche auf gewagte Showeinlagen und impulsive musikalischeExkursionen. Der Raum ist gefüllt mit Liebe und jugendlichem Leichtsinn. Aber auch wenn SHELTER BOY alleine spielt\, gelingt es ihm\, diese Energie in einem intimeren Setting zu transportieren.\n\n\nWas noch am Stattstrand passiert erfährst du HIER
URL:https://zughafen.de/event/shelter-boy-live-zughafen-open-air/
LOCATION:Stattstrand Biergarten\, Zum Güterbahnhof 20\, Erfurt\, Thüringen\, 99085\, Deutschland
CATEGORIES:Stattstrand
ATTACH;FMTTYPE=image/jpeg:https://zughafen.de/wp-content/uploads/2021/08/235367263_4677246612309773_1294053732176459362_n.jpg
END:VEVENT
BEGIN:VEVENT
DTSTART;TZID=Europe/Berlin:20210917T180000
DTEND;TZID=Europe/Berlin:20210917T220000
DTSTAMP:20260420T062050
CREATED:20210906T083933Z
LAST-MODIFIED:20210907T082231Z
UID:10000144-1631901600-1631916000@zughafen.de
SUMMARY:Stattstrand POP UP BÜHNE w/ DÄMSE LIVE / MAMORÈ LIVE / LISBERT LIVE / ANNE KARMANÉ / uvm.
DESCRIPTION:DIE POP UP BÜHNE AM ZUGHAFEN!\nErlebt umsonst & draussen:\n\nDÄMSE LIVE\nMAMORÉ LIVE\nLISBERT LIVE\nTECHNOSILK3\nKOPFHÖRER DISCO w/\nANNE KARMANÉ & COURTNEY LOST\nTimetable folgt.\n\nFeiert mit uns das ENDE des Sommers am Stattstrand Biergarten mit großartiger Live Musik & DJ-Sets.\n\nMit Unterstützung der Landeshauptstadt Erfurt und der Sparkasse Mittelthüringen im Rahmen des #erfurtkultursommer. Das gesamte Veranstaltungsprogramm ist über die Socialmedia-Kanäle der Kulturdirektion @erfurtkultur und über #erfurtkultursommer zu finden.
URL:https://zughafen.de/event/stattstrand-pop-up-buehne-w-daemse-live-mamore-live-lisbert-live-anne-karmane-uvm/
LOCATION:Stattstrand Biergarten\, Zum Güterbahnhof 20\, Erfurt\, Thüringen\, 99085\, Deutschland
CATEGORIES:Stattstrand
ATTACH;FMTTYPE=image/jpeg:https://zughafen.de/wp-content/uploads/2021/09/popup.jpg
END:VEVENT
BEGIN:VEVENT
DTSTART;TZID=Europe/Berlin:20210919T180000
DTEND;TZID=Europe/Berlin:20210919T200000
DTSTAMP:20260420T062050
CREATED:20210810T143803Z
LAST-MODIFIED:20210902T100235Z
UID:10000123-1632074400-1632081600@zughafen.de
SUMMARY:Mayberg - Grooveyard No. 6
DESCRIPTION:Grooveyard No.6\nAus dem Zughafen in die Welt.\n\nWer diesen Sommer noch nicht ganz genießen konnte\, der hat es noch nicht mit dem Groooveyard probiert. Denn hier kommen Junge Künstler*innen aus der Region auf die große Bühne des Stattstrands.\nManchen mag ja das Tanzbein in den trägen Coronamonaten eingeschlafen sein\, doch Thüringens Nachwuchskünstler*innen haben sich nicht ausgeruht. Mit frischem Wind und viel Elan werden Bands wie Sijeb\, Stuss oder Muntarfell das Publikum zum mit wippen bringen.\nIm Rahmen des Erfurter Kultursommers wird die Kultur der Stadt wieder angekurbelt. Wir konzentrieren uns dabei besonders auf Musizierende die in den letzten Monaten wenig Gelegenheit hatten neue Zuhörer*innen für sich zu gewinnen.\nDrum schaut vorbei\, jedes Konzert beginnt um 19.00 Uhr. Wie lange gespielt wird überlassen wir den Künstlern. Denn Vorgaben gibt es keine\, außer zu genießen. Das gilt auch für das Publikum.\n\n04.07 – Sijeb\n25.07 – Stuss\n08.08 – Jukebox Konrad Bogen\n29.08 – Spacewaste\n03.09 – Landesjugend Bigband\n19.09 – Mayberg & Band\n22.09 – Munterfel & Milonaut\n29.09 – Sijeb + Features\n\nDer Grooveyard findet statt mit Unterstützung der Landeshauptstadt Erfurt und der Sparkasse Mittelthüringen im Rahmen des #erfurtkultursommer.\n\nWas noch am Stattstrand passiert erfährst du HIER\nCheckt einfach unsere Instagram Seite für tägliche Neuigkeiten
URL:https://zughafen.de/event/mayberg-grooveyard-no-6/
LOCATION:Zughafen\, Zum Güterbahnhof 20\, Erfurt\, Thüringen\, 99085\, Deutschland
CATEGORIES:Stattstrand,Zughafen
ATTACH;FMTTYPE=image/png:https://zughafen.de/wp-content/uploads/2021/08/Groooveyard-rebranding-band-sterne-plakat-2-1-2.png
END:VEVENT
BEGIN:VEVENT
DTSTART;TZID=Europe/Berlin:20210922T180000
DTEND;TZID=Europe/Berlin:20210922T220000
DTSTAMP:20260420T062050
CREATED:20210804T105059Z
LAST-MODIFIED:20210922T123232Z
UID:10000120-1632333600-1632348000@zughafen.de
SUMMARY:Munterfel + Milonaut - Grooveyard No.7
DESCRIPTION:Grooveyard No.7\nAus dem Zughafen in die Welt.\n\nWer diesen Sommer noch nicht ganz genießen konnte\, der hat es noch nicht mit dem Groooveyard probiert. Denn hier kommen Junge Künstler*innen aus der Region auf die große Bühne des Stattstrands.\nManchen mag ja das Tanzbein in den trägen Coronamonaten eingeschlafen sein\, doch Thüringens Nachwuchskünstler*innen haben sich nicht ausgeruht. Mit frischem Wind und viel Elan werden Bands wie Sijeb\, Stuss oder Muntarfell das Publikum zum mit wippen bringen.\nIm Rahmen des Erfurter Kultursommers wird die Kultur der Stadt wieder angekurbelt. Wir konzentrieren uns dabei besonders auf Musizierende die in den letzten Monaten wenig Gelegenheit hatten neue Zuhörer*innen für sich zu gewinnen.\nDrum schaut vorbei\, jedes Konzert beginnt um 19.00 Uhr. Wie lange gespielt wird überlassen wir den Künstlern. Denn Vorgaben gibt es keine\, außer zu genießen. Das gilt auch für das Publikum.\n\n04.07 – Sijeb\n25.07 – Stuss\n08.08 – Jukebox Konrad Bogen\n29.08 – Spacewaste\n03.09 – Landesjugend Bigband\n19.09 – Mayberg & Band\n22.09 – Munterfel & Milonaut\n03.10 – Sijeb + Features\n\nDer Grooveyard findet statt mit Unterstützung der Landeshauptstadt Erfurt und der Sparkasse Mittelthüringen im Rahmen des #erfurtkultursommer.\n\nWas noch am Stattstrand passiert erfährst du HIER\nCheckt einfach unsere Instagram Seite für tägliche Neuigkeiten
URL:https://zughafen.de/event/grooveyard-no-6-2021-09-22/
LOCATION:Stattstrand Biergarten\, Zum Güterbahnhof 20\, Erfurt\, Thüringen\, 99085\, Deutschland
CATEGORIES:Stattstrand,Zughafen
ATTACH;FMTTYPE=image/png:https://zughafen.de/wp-content/uploads/2021/08/Groooveyard-rebranding-band-sterne-plakat-2-1-2.png
ORGANIZER;CN="Engelsburg":MAILTO:info@engelsburg.club
END:VEVENT
END:VCALENDAR