BEGIN:VCALENDAR
VERSION:2.0
PRODID:-//Zughafen - ECPv6.15.20//NONSGML v1.0//EN
CALSCALE:GREGORIAN
METHOD:PUBLISH
X-WR-CALNAME:Zughafen
X-ORIGINAL-URL:https://zughafen.de
X-WR-CALDESC:Veranstaltungen für Zughafen
REFRESH-INTERVAL;VALUE=DURATION:PT1H
X-Robots-Tag:noindex
X-PUBLISHED-TTL:PT1H
BEGIN:VTIMEZONE
TZID:Europe/Berlin
BEGIN:DAYLIGHT
TZOFFSETFROM:+0100
TZOFFSETTO:+0200
TZNAME:CEST
DTSTART:20210328T010000
END:DAYLIGHT
BEGIN:STANDARD
TZOFFSETFROM:+0200
TZOFFSETTO:+0100
TZNAME:CET
DTSTART:20211031T010000
END:STANDARD
BEGIN:DAYLIGHT
TZOFFSETFROM:+0100
TZOFFSETTO:+0200
TZNAME:CEST
DTSTART:20220327T010000
END:DAYLIGHT
BEGIN:STANDARD
TZOFFSETFROM:+0200
TZOFFSETTO:+0100
TZNAME:CET
DTSTART:20221030T010000
END:STANDARD
BEGIN:DAYLIGHT
TZOFFSETFROM:+0100
TZOFFSETTO:+0200
TZNAME:CEST
DTSTART:20230326T010000
END:DAYLIGHT
BEGIN:STANDARD
TZOFFSETFROM:+0200
TZOFFSETTO:+0100
TZNAME:CET
DTSTART:20231029T010000
END:STANDARD
END:VTIMEZONE
BEGIN:VEVENT
DTSTART;VALUE=DATE:20220610
DTEND;VALUE=DATE:20220912
DTSTAMP:20260421T013343
CREATED:20220302T135546Z
LAST-MODIFIED:20220713T191311Z
UID:10000173-1654819200-1662940799@zughafen.de
SUMMARY:StattStrand Biergarten
DESCRIPTION:Der StattStrand Biergarten kommt zurück! Hier wird euch an den lauen Sommertagen wieder ausreichend Erfrischung an der Bar und im Programm geboten. Tolle Abende mit Konzerten\, DJ´s und Spielen erwarten euch.Das aktuelle Programm findet ihr HIER. \nUnsere Neuen Öffnungszeiten:MI: 18:00 – 22:00 UhrDO: 18:00 – 22:00 UhrFR: 18:00 – 22:00 UhrSA: 16:00 – 22:00 UhrSO: 16:00 – 22:00 Uhr \nAuch das Veranstaltungsgelände hat sich wieder verändert und bietet euch einen erholsamen Platz. \nGemeinsam mit der Engelsburg und Foodcraft kümmern wir uns um eure Sommergestaltung.Schaut vorbei und lasst euch überraschen. \nWeitere Infos folgen zu gegebener Zeit auf unseren Social Media Kanälen:Instagram:   @stattstrand_biergarten   /   @zughafenkulturbahnof   /   @kulturzentrum_engelsburgFacebook:   StattStrand   /   Zughafen   /   Engelsburg
URL:https://zughafen.de/event/stattstrand-biergarten/
LOCATION:Stattstrand Biergarten\, Zum Güterbahnhof 20\, Erfurt\, Thüringen\, 99085\, Deutschland
CATEGORIES:Stattstrand,Zughafen
ATTACH;FMTTYPE=image/jpeg:https://zughafen.de/wp-content/uploads/2022/03/stst.jpg
END:VEVENT
BEGIN:VEVENT
DTSTART;TZID=Europe/Berlin:20220610T160000
DTEND;TZID=Europe/Berlin:20220612T220000
DTSTAMP:20260421T013343
CREATED:20220525T102823Z
LAST-MODIFIED:20220603T102147Z
UID:10000191-1654876800-1655071200@zughafen.de
SUMMARY:STATTSTRAND SAISON ERÖFFNUNG!
DESCRIPTION:Es geht wieder los! Stattstrand Saison Eröffnung!\nAm 10. Juni starten wir in die 4. Saison am STATTSTRAND Biergarten.\nIn diesem Jahr ist unser Kultur-Biergarten für euch von Mi-So\nab 16 Uhr geöffnet.\n\nFeiert mit uns die Stattstrand Saison Eröffnung in die Saison gleich ein ganzes Wochende:\nFreitag – PRELLER X DEAD DISCO (DJ-SET)\nSamstag – PANDA LUX LIVE + COURTNEY LOST (DJ-SET)\nSONNTAG – „MELODISCHES TREIBEN“ w/\nLUU / BOSS AXIS / JOHN BAILY / MATS ALLVAR & MONASTIC KID\n\nDen ganzen Sommer gibt es bei uns jede Menge Live Musik\, DJ-Sets\, Open Air Karaoke\, BiergartenQuiz\, Grooveyard\, Spieleabende\, leckeres Essen und natürlich kühle Getränke.\n\nAlso lasst die Stadt hinter euch und besucht uns am STATTSTRAND.\nFür aktuelle Infos folgt einfach unserem Kanal auf Instagram:\nhttps://www.instagram.com/stattstrand_biergarten/\n\nWer immer auf dem Laufenden bleiben will\, was im Zughafen passiert\, der kann immer auf der Website vorbeischauen\, wo immer alle Veranstaltungen zu finden sind. Außerdem kann man uns auf Instagram und Facebook folgen\, wo wir alle am Tagesgeschäft teilhaben lassen.
URL:https://zughafen.de/event/stattstrand-saison-eroeffnung/
LOCATION:Stattstrand Biergarten\, Zum Güterbahnhof 20\, Erfurt\, Thüringen\, 99085\, Deutschland
CATEGORIES:Stattstrand,Zughafen
ATTACH;FMTTYPE=image/jpeg:https://zughafen.de/wp-content/uploads/2022/05/stst_opening.jpg
END:VEVENT
BEGIN:VEVENT
DTSTART;TZID=Europe/Berlin:20220611T200000
DTEND;TZID=Europe/Berlin:20220611T230000
DTSTAMP:20260421T013343
CREATED:20220228T120656Z
LAST-MODIFIED:20220525T105851Z
UID:10000172-1654977600-1654988400@zughafen.de
SUMMARY:Panda Lux "Fun Fun Fun Tour" - Erfurt
DESCRIPTION:Panda Lux in Erfurt. Mit ihrem neuen Album „Fun Fun Fun“ gehen die Schweizer Multiinstrumentalisten von PANDA LUX auf Deutschlandtour! \n„Fun Fun Fun – Tour 2022“präsentiert von The Pick & Schall. Musikmagazin11.06.2022(verlegt vom 19.12.2020 & 02.12.2021)Erfurt\, STATTSTRAND BIERGARTENBeginn: 20::00 Uhr\nNach der Nomination für den Swiss Music Award mit ihrem gefeierten Debut „Versailles“ im Jahr 2018 und der danach folgenden EP „Zoo“ erschien 2020 das zweite PANDA LUX-Album.Damit werden die vier Multi-Instrumentalisten aus der Schweiz auch wieder Deutschland unsicher machen – das Motto: Fun\, Fun\, Fun! Freut euch also auf jede Menge Spaß und tanzbare Indie-Songs.Den „Fahrschein ins Glück“ kann man sich schon heute sichern. Die Tickets für die Tour sind nämlich ab sofort im Vorverkauf erhältlich.\n \nÜber Spotify könnt ihr bei der Band auch gerne mal reinhören! \nDie Tickets findet ihr auf Ticket Undercover. \n  \nWer immer auf dem Laufenden bleiben will\, was im Zughafen passiert\, der kann immer auf der Website vorbeischauen\, wo immer alle Veranstaltungen zu finden sind. Außerdem kann man uns auf Instagram und Facebook folgen\, wo wir alle am Tagesgeschäft teilhaben lassen.
URL:https://zughafen.de/event/panda-lux-fun-fun-fun-tour/
LOCATION:Zughafen\, Zum Güterbahnhof 20\, Erfurt\, Thüringen\, 99085\, Deutschland
CATEGORIES:Stattstrand,Zughafen
ATTACH;FMTTYPE=image/jpeg:https://zughafen.de/wp-content/uploads/2021/12/pandalux.jpg
END:VEVENT
BEGIN:VEVENT
DTSTART;TZID=Europe/Berlin:20220617T160000
DTEND;TZID=Europe/Berlin:20220617T160000
DTSTAMP:20260421T013343
CREATED:20220601T083115Z
LAST-MODIFIED:20220603T102147Z
UID:10000199-1655481600-1655481600@zughafen.de
SUMMARY:WEEKEND WARM UP w/ selavie
DESCRIPTION:Endlich Freitag!\nDie harte Woche ist rum und wir katapultieren dich direkt ins wohlverdiente Wochenende!\nGute Musik\, kühle Drinks von der Bar und der kleinste Strand der Welt stimmen dich auf deine freien Tage ein.\nLine Up: selavie (Weimar)\nhttps://soundcloud.com/selaviedj\n\n\nWer immer auf dem Laufenden bleiben will\, was im Zughafen passiert\, der kann immer auf der Website vorbeischauen\, wo immer alle Veranstaltungen zu finden sind. Außerdem kann man uns auf Instagram und Facebook folgen\, wo wir alle am Tagesgeschäft teilhaben lassen.
URL:https://zughafen.de/event/weekend-warm-up-w-selavie/
LOCATION:Stattstrand Biergarten\, Zum Güterbahnhof 20\, Erfurt\, Thüringen\, 99085\, Deutschland
CATEGORIES:Stattstrand,Zughafen
ATTACH;FMTTYPE=image/jpeg:https://zughafen.de/wp-content/uploads/2022/06/warmup.jpg
END:VEVENT
BEGIN:VEVENT
DTSTART;TZID=Europe/Berlin:20220618T160000
DTEND;TZID=Europe/Berlin:20220618T220000
DTSTAMP:20260421T013343
CREATED:20220525T104948Z
LAST-MODIFIED:20220609T135248Z
UID:10000192-1655568000-1655589600@zughafen.de
SUMMARY:DJ LOUNGE mit DJ BEATHOVA
DESCRIPTION:Endlich Wochenende! Komm doch zur DJ Lounge mit DJ Beathova\nEs ist Samstag und wir wollen dich tanzen sehen.\nLine Up: DJ BEATHOVA!\nDie Auszeit am Strand hast du dir redlich verdient und neben kühlen Getränken und leckerem Essen erwartet dich auch noch gute Musik.\nEintritt Frei!\n\nWer immer auf dem Laufenden bleiben will\, was im Zughafen passiert\, der kann immer auf der Website vorbeischauen\, wo immer alle Veranstaltungen zu finden sind. Außerdem kann man uns auf Instagram und Facebook folgen\, wo wir alle am Tagesgeschäft teilhaben lassen.
URL:https://zughafen.de/event/dj-lounge-mit-dj-beathova/
LOCATION:Stattstrand Biergarten\, Zum Güterbahnhof 20\, Erfurt\, Thüringen\, 99085\, Deutschland
CATEGORIES:Stattstrand,Zughafen
ATTACH;FMTTYPE=image/jpeg:https://zughafen.de/wp-content/uploads/2022/05/beathova.jpg
END:VEVENT
BEGIN:VEVENT
DTSTART;TZID=Europe/Berlin:20220619T160000
DTEND;TZID=Europe/Berlin:20220619T220000
DTSTAMP:20260421T013343
CREATED:20220525T105246Z
LAST-MODIFIED:20220603T102139Z
UID:10000193-1655654400-1655676000@zughafen.de
SUMMARY:OPEN AIR KARAOKE am STATTSTRAND!
DESCRIPTION:OPEN AIR KARAOKE am STATTSTRAND!\nKaraoke (jap. カラオケ)\nEin Abend\, eine Bühne und ihr als unsere Künstler!\nFür jeden Song bei uns gibt es einen original Sake oder Pfeffi Shot\, der dich motivieren soll\, alles auf unserer Showbühne zu geben – für dein Publikum!\nEgal\, ob du sonst nur unter der Dusche singst oder nur beim Autofahren\, wir wollen deine Stimme hören! Jeder von uns kennt einschlägige Tracks\, die einem im Gedächtnis bleiben und einfach rausgebrüllt oder -gehaucht werden müssen. Auch nach Jahren noch kann man die Texte runterbeten – und nur du weißt\, wieso. Lass uns teilhaben an deinen Emotionen!\nÜberzeuge das Publikum und uns davon\, dass du der King oder die Queen of Karaoke bist! Mut\, Liebe und Selbstvertrauen gibt’s von unserem Host Benno Bounce & in flüssiger Form.\n\nWer immer auf dem Laufenden bleiben will\, was im Zughafen passiert\, der kann immer auf der Website vorbeischauen\, wo immer alle Veranstaltungen zu finden sind. Außerdem kann man uns auf Instagram und Facebook folgen\, wo wir alle am Tagesgeschäft teilhaben lassen.
URL:https://zughafen.de/event/open-air-karaoke-am-stattstrand/
LOCATION:Stattstrand Biergarten\, Zum Güterbahnhof 20\, Erfurt\, Thüringen\, 99085\, Deutschland
CATEGORIES:Stattstrand,Zughafen
ATTACH;FMTTYPE=image/jpeg:https://zughafen.de/wp-content/uploads/2022/05/karaoke.jpg
END:VEVENT
BEGIN:VEVENT
DTSTART;TZID=Europe/Berlin:20220623T190000
DTEND;TZID=Europe/Berlin:20220623T190000
DTSTAMP:20260421T013343
CREATED:20220601T083354Z
LAST-MODIFIED:20220622T124428Z
UID:10000200-1656010800-1656010800@zughafen.de
SUMMARY:BIERGARTEN QUIZ AM STATTSTRAND!
DESCRIPTION:Gewinne Gewinne Gewinne! 60 Fragen – 6 Kategorien\nMusik\, Film\, Sport\, Geschichte\, Natur\n+ Überraschungskategorie\nWir haben knifflige Fragen vorbereitet und du hast die Chance nicht nur Bier für eure Crew zu gewinnen sondern auch andere tolle Preise.\nJede Runde besteht aus 10 unterschiedlich schweren Fragen.\nWer die meisten Fragen richtig beantwortet hat\, kann Punkte sammeln und am Ende den Sieg und das goldene Bier mit nach Hause nehmen.\nKeine Anmeldung nötig.\n\nEinfach rum kommen\, Stift und Zettel an der Bühne abholen und ab gehts.\nWarm Up: 19.00 Uhr\nQuiz Beginn: 19.30 Uhr\n\nWer immer auf dem Laufenden bleiben will\, was im Zughafen passiert\, der kann immer auf der Website vorbeischauen\, wo immer alle Veranstaltungen zu finden sind. Außerdem kann man uns auf Instagram und Facebook folgen\, wo wir alle am Tagesgeschäft teilhaben lassen.
URL:https://zughafen.de/event/biergarten-quiz-am-stattstrand/
LOCATION:Stattstrand Biergarten\, Zum Güterbahnhof 20\, Erfurt\, Thüringen\, 99085\, Deutschland
CATEGORIES:Stattstrand,Zughafen
ATTACH;FMTTYPE=image/jpeg:https://zughafen.de/wp-content/uploads/2022/06/quiz-1.jpg
END:VEVENT
END:VCALENDAR