BEGIN:VCALENDAR
VERSION:2.0
PRODID:-//Zughafen - ECPv6.15.20//NONSGML v1.0//EN
CALSCALE:GREGORIAN
METHOD:PUBLISH
X-ORIGINAL-URL:https://zughafen.de
X-WR-CALDESC:Veranstaltungen für Zughafen
REFRESH-INTERVAL;VALUE=DURATION:PT1H
X-Robots-Tag:noindex
X-PUBLISHED-TTL:PT1H
BEGIN:VTIMEZONE
TZID:Europe/Berlin
BEGIN:DAYLIGHT
TZOFFSETFROM:+0100
TZOFFSETTO:+0200
TZNAME:CEST
DTSTART:20200329T010000
END:DAYLIGHT
BEGIN:STANDARD
TZOFFSETFROM:+0200
TZOFFSETTO:+0100
TZNAME:CET
DTSTART:20201025T010000
END:STANDARD
BEGIN:DAYLIGHT
TZOFFSETFROM:+0100
TZOFFSETTO:+0200
TZNAME:CEST
DTSTART:20210328T010000
END:DAYLIGHT
BEGIN:STANDARD
TZOFFSETFROM:+0200
TZOFFSETTO:+0100
TZNAME:CET
DTSTART:20211031T010000
END:STANDARD
BEGIN:DAYLIGHT
TZOFFSETFROM:+0100
TZOFFSETTO:+0200
TZNAME:CEST
DTSTART:20220327T010000
END:DAYLIGHT
BEGIN:STANDARD
TZOFFSETFROM:+0200
TZOFFSETTO:+0100
TZNAME:CET
DTSTART:20221030T010000
END:STANDARD
END:VTIMEZONE
BEGIN:VEVENT
DTSTART;TZID=Europe/Berlin:20210813T160000
DTEND;TZID=Europe/Berlin:20210813T220000
DTSTAMP:20260421T172349
CREATED:20210805T091344Z
LAST-MODIFIED:20210816T092911Z
UID:10000122-1628870400-1628892000@zughafen.de
SUMMARY:WEEKEND WARM UP w/ JESSPASSERI
DESCRIPTION:Endlich Freitag!\nDie harte Woche ist rum und wir katapultieren dich direkt ins wohlverdiente Wochenende! Gute Musik\, kühle Drinks von der Bar und der kleinste Strand der Welt stimmen dich auf deine freien Tage ein.\n\nLine Up: JESSPASSERI\nJess ist nicht nur Kennerin im Bereich Deutschrap und Future Beats\, sondern supported auch die lokale Szene in Leipzig. Gleichzeitig entwickelte sie einen ausgefeilten\, tanzbaren Stil in ihren Setlists\, der zwischen pumpenden Neo- Boombap und trappy Sound problemlos wechselt.\n\n\nWas noch am Stattstrand passiert erfährst du HIER
URL:https://zughafen.de/event/weekend-warm-up-w-jesspasseri/
LOCATION:Stattstrand Biergarten\, Zum Güterbahnhof 20\, Erfurt\, Thüringen\, 99085\, Deutschland
CATEGORIES:Stattstrand
ATTACH;FMTTYPE=image/jpeg:https://zughafen.de/wp-content/uploads/2021/08/weekend.jpg
END:VEVENT
BEGIN:VEVENT
DTSTART;TZID=Europe/Berlin:20210814T160000
DTEND;TZID=Europe/Berlin:20210814T220000
DTSTAMP:20260421T172349
CREATED:20210804T084615Z
LAST-MODIFIED:20210816T092911Z
UID:10000109-1628956800-1628978400@zughafen.de
SUMMARY:DJ LOUNGE - FUEGO SHOW
DESCRIPTION:DJ FUEGO (FIESTA LATINA)\nkommt zu uns an den STATTSTRAND.\nAn diesem Samstag wird der Rausch durch den Tag garantiert denn es werden zwei Stoffe geboten: Lebensbejahende ausgelassene Tänze und authentische lateinamerikanische Klänge von DJ Fuego Latino aus Ecuador !\nDie Mischung macht’s! Diese Sinnes-Verstärkungsmittel kommen mit energiegeladener Kraft\, stoßen direkt zusammen und machen die Fiesta Latina zu einer internationalen Nacht der Freude!\n• Salsa – Merengue/Mambo – Bachata – Reggaeton – Cumbiaton – Latin Hits – oldschool music and more •\n\nWas noch am Stattstrand passiert erfährst du HIER
URL:https://zughafen.de/event/dj-lounge-fuego-show/
LOCATION:Stattstrand Biergarten\, Zum Güterbahnhof 20\, Erfurt\, Thüringen\, 99085\, Deutschland
CATEGORIES:Stattstrand
ATTACH;FMTTYPE=image/jpeg:https://zughafen.de/wp-content/uploads/2021/08/dj_lounge_fuego_show.jpg
END:VEVENT
BEGIN:VEVENT
DTSTART;TZID=Europe/Berlin:20210815T160000
DTEND;TZID=Europe/Berlin:20210815T220000
DTSTAMP:20260421T172349
CREATED:20210805T090633Z
LAST-MODIFIED:20210816T092911Z
UID:10000121-1629043200-1629064800@zughafen.de
SUMMARY:SONNTAG SPECIAL: OPEN AIR KARAOKE
DESCRIPTION:ACHTUNG SONNTAGS-SPECIAL!\n\nOPEN AIR KARAOKE am Stattstrand Biergarten.\nKaraoke (jap. カラオケ)\nEin Abend\, eine Bühne und ihr als unsere Künstler!\nFür jeden Song bei uns gibt es einen original Sake oder Pfeffi Shot\, der dich motivieren soll\, alles auf unserer Showbühne zu geben – für dein Publikum!\nEgal\, ob du sonst nur unter der Dusche singst oder nur beim Autofahren\, wir wollen deine Stimme hören! Jeder von uns kennt einschlägige Tracks\, die einem im Gedächtnis bleiben und einfach rausgebrüllt oder -gehaucht werden müssen. Auch nach Jahren noch kann man die Texte runterbeten – und nur du weißt\, wieso. Lass uns teilhaben an deinen Emotionen!\nÜberzeuge das Publikum und uns davon\, dass du der King oder die Queen of Karaoke bist! Mut\, Liebe und Selbstvertrauen gibt’s von unserem Host Benno Bounce & in flüssiger Form.\n\n\nWas noch am Stattstrand passiert erfährst du HIER
URL:https://zughafen.de/event/sonntag-special-open-air-karaoke/
LOCATION:Stattstrand Biergarten\, Zum Güterbahnhof 20\, Erfurt\, Thüringen\, 99085\, Deutschland
CATEGORIES:Stattstrand
ATTACH;FMTTYPE=image/jpeg:https://zughafen.de/wp-content/uploads/2021/06/196905648_826889061295463_8584357792206150289_n.jpg
END:VEVENT
BEGIN:VEVENT
DTSTART;TZID=Europe/Berlin:20210821T160000
DTEND;TZID=Europe/Berlin:20210821T220000
DTSTAMP:20260421T172349
CREATED:20210816T091121Z
LAST-MODIFIED:20210816T092911Z
UID:10000128-1629561600-1629583200@zughafen.de
SUMMARY:DJ LOUNGE mit MEINE GUD'N
DESCRIPTION:Endlich Wochenende!\nIhr habt euch eine Auszeit am Strand verdient.\n„MEINE GUD’N“ versorgen euch vom DJ-PULT aus mit heißen Tunes und lassen euch die harte Woche vergessen.\n\nKommt zu uns an den Strand.\n\n\nWas noch am Stattstrand passiert erfährst du HIER\nCheckt einfach unsere Instagram Seite für tägliche Neuigkeiten
URL:https://zughafen.de/event/dj-lounge-mit-meine-gudn/
LOCATION:Stattstrand Biergarten\, Zum Güterbahnhof 20\, Erfurt\, Thüringen\, 99085\, Deutschland
CATEGORIES:Stattstrand
ATTACH;FMTTYPE=image/jpeg:https://zughafen.de/wp-content/uploads/2021/07/dj_lounge.jpg
END:VEVENT
BEGIN:VEVENT
DTSTART;TZID=Europe/Berlin:20210824T160000
DTEND;TZID=Europe/Berlin:20210824T220000
DTSTAMP:20260421T172349
CREATED:20210816T091700Z
LAST-MODIFIED:20210816T092910Z
UID:10000130-1629820800-1629842400@zughafen.de
SUMMARY:Biergarten Quiz - DISNEY EDITION
DESCRIPTION:Gewinne Gewinne Gewinne! 60 Fragen – zum Thema Disney.\nEs geht um die klassischen Disney Filme\, Trickfilme\, Songs und Figuren. Wir haben knifflige Fragen vorbereitet und du hast die Chance nicht nur Bier für eure Crew zu gewinnen sondern auch andere tolle Preise.\n\nJede Runde besteht aus 10 unterschiedlich schweren Fragen.\nWer die meisten Fragen richtig beantwortet hat\, kann Punkte sammeln und am Ende den Sieg und das goldene Bier mit nach Hause nehmen.\nKeine Anmeldung nötig.\n\nEinfach rum kommen\, Stift und Zettel an der Bühne abholen oder selber mitbringen und ab gehts.\nWarm Up: 19.00 Uhr\nQuiz Beginn: 19.30 Uhr \n\nWas noch am Stattstrand passiert erfährst du HIER\nCheckt einfach unsere Instagram Seite für tägliche Neuigkeiten
URL:https://zughafen.de/event/biergarten-quiz-disney-edition/
LOCATION:Stattstrand Biergarten\, Zum Güterbahnhof 20\, Erfurt\, Thüringen\, 99085\, Deutschland
CATEGORIES:Stattstrand
ATTACH;FMTTYPE=image/jpeg:https://zughafen.de/wp-content/uploads/2021/08/disneyQuiz.jpg
END:VEVENT
BEGIN:VEVENT
DTSTART;TZID=Europe/Berlin:20210825T180000
DTEND;TZID=Europe/Berlin:20210825T220000
DTSTAMP:20260421T172349
CREATED:20210823T125434Z
LAST-MODIFIED:20210823T125910Z
UID:10000137-1629914400-1629928800@zughafen.de
SUMMARY:Triebwerkmittwoch w/ Cosmic lila B2B einmaldrei
DESCRIPTION:Bergfest\, Halftime\, Verschnaufpause.\nDu hast die Hälfte der Woche hinter dich gebracht und das sollte gefeiert werden.\nLine Up:\nCosmic lila B2B einmaldrei\nKommt vorbei\, setz dich mit dem kühlen Drink unter den Sonnenschirm und lass die Seele baumeln\, denn das hast du dir verdient.\nJeden Mittwoch ab 16 Uhr.\n\nWer immer auf dem Laufenden bleiben will\, was im Zughafen passiert\, der kann immer auf der Website vorbeischauen\, wo immer alle Veranstaltungen zu finden sind. Außerdem kann man uns auf Instagram und Facebook folgen\, wo wir alle am Tagesgeschäft teilhaben lassen.
URL:https://zughafen.de/event/triebwerkmittwoch-w-cosmic-lila-b2b-einmaldrei/
LOCATION:Zughafen\, Zum Güterbahnhof 20\, Erfurt\, Thüringen\, 99085\, Deutschland
CATEGORIES:Stattstrand
ATTACH;FMTTYPE=image/jpeg:https://zughafen.de/wp-content/uploads/2021/08/triebwerkmittwoch.jpg
END:VEVENT
BEGIN:VEVENT
DTSTART;TZID=Europe/Berlin:20210828T180000
DTEND;TZID=Europe/Berlin:20210828T220000
DTSTAMP:20260421T172349
CREATED:20210820T112910Z
LAST-MODIFIED:20210820T112948Z
UID:10000136-1630173600-1630188000@zughafen.de
SUMMARY:LAZY KIDS SATURDAY w/ COZY
DESCRIPTION:Lazy Kids Saturday \nLine up: Cozy \nWas noch am Stattstrand passiert erfährst du HIER \n 
URL:https://zughafen.de/event/lazy-kids-saturday-w-cozy/
LOCATION:Stattstrand Biergarten\, Zum Güterbahnhof 20\, Erfurt\, Thüringen\, 99085\, Deutschland
CATEGORIES:Stattstrand
ATTACH;FMTTYPE=image/jpeg:https://zughafen.de/wp-content/uploads/2021/08/laty_kids-scaled.jpg
END:VEVENT
END:VCALENDAR