BEGIN:VCALENDAR
VERSION:2.0
PRODID:-//Zughafen - ECPv6.15.20//NONSGML v1.0//EN
CALSCALE:GREGORIAN
METHOD:PUBLISH
X-WR-CALNAME:Zughafen
X-ORIGINAL-URL:https://zughafen.de
X-WR-CALDESC:Veranstaltungen für Zughafen
REFRESH-INTERVAL;VALUE=DURATION:PT1H
X-Robots-Tag:noindex
X-PUBLISHED-TTL:PT1H
BEGIN:VTIMEZONE
TZID:Europe/Berlin
BEGIN:DAYLIGHT
TZOFFSETFROM:+0100
TZOFFSETTO:+0200
TZNAME:CEST
DTSTART:20200329T010000
END:DAYLIGHT
BEGIN:STANDARD
TZOFFSETFROM:+0200
TZOFFSETTO:+0100
TZNAME:CET
DTSTART:20201025T010000
END:STANDARD
BEGIN:DAYLIGHT
TZOFFSETFROM:+0100
TZOFFSETTO:+0200
TZNAME:CEST
DTSTART:20210328T010000
END:DAYLIGHT
BEGIN:STANDARD
TZOFFSETFROM:+0200
TZOFFSETTO:+0100
TZNAME:CET
DTSTART:20211031T010000
END:STANDARD
BEGIN:DAYLIGHT
TZOFFSETFROM:+0100
TZOFFSETTO:+0200
TZNAME:CEST
DTSTART:20220327T010000
END:DAYLIGHT
BEGIN:STANDARD
TZOFFSETFROM:+0200
TZOFFSETTO:+0100
TZNAME:CET
DTSTART:20221030T010000
END:STANDARD
END:VTIMEZONE
BEGIN:VEVENT
DTSTART;TZID=Europe/Berlin:20210725T190000
DTEND;TZID=Europe/Berlin:20210725T220000
DTSTAMP:20260421T185418
CREATED:20210719T164705Z
LAST-MODIFIED:20210720T123418Z
UID:10000040-1627239600-1627250400@zughafen.de
SUMMARY:Groooveyard - STUSS
DESCRIPTION:Wer diesen Sommer noch nicht ganz genießen konnte\, der hat es noch nicht mit dem Groooveyard probiert. Denn hier kommen Junge Künstler*innen aus der Region auf die große Bühne des Stattstrands. Manchen mag ja das Tanzbein in den trägen Coronamonaten eingeschlafen sein\, doch Thüringens Nachwuchskünstler*innen haben sich nicht ausgeruht. Mit frischem Wind und viel Elan werden Bands wie Sijeb\, Stuss oder Muntarfell das Publikum zum mit wippen bringen. Im Rahmen des Erfurter Kultursommers wird die Kultur der Stadt wieder angekurbelt. Wir konzentrieren uns dabei besonders auf Musizierende die in den letzten Monaten wenig Gelegenheit hatten neue Zuhörer*innen für sich zu gewinnen. Drum schaut vorbei\, jedes Konzert beginnt um 19.00 Uhr. Wie lange gespielt wird überlassen wir den Künstlern. Denn Vorgaben gibt es keine\, außer zu genießen. Das gilt auch für das Publikum. \n\n\n\nSchaut also mal vorbei\, seid Zuhörer*innen und Entdecker*innen: \n04.07 – Sijeb 25.07 – Stuss 08.08 – Jukebox mit Konrad Bogen 29.08 – T.B.A. 03.09 – Landesjugendbigband 22.09 – MunterfelT.B.A. – Sijeb + Features Aktuelle Veranstaltungen lassen sich auch auf unserer Website finden: https://zughafen.de/veranstaltungen/ \n\n\n\n\n\nDer Groooveyard findet mit der Unterstützung der Landeshauptstadt Erfurt und der Sparkasse Mittelthüringen im Rahmen des #erfurtkultursommer statt.
URL:https://zughafen.de/event/groooveyard-stuss/
LOCATION:Zughafen\, Zum Güterbahnhof 20\, Erfurt\, Thüringen\, 99085\, Deutschland
CATEGORIES:Stattstrand,Zughafen
ATTACH;FMTTYPE=image/png:https://zughafen.de/wp-content/uploads/2021/07/Groooveyard-rebranding-band-sterne-plakat-2-1-4.png
END:VEVENT
END:VCALENDAR