BEGIN:VCALENDAR
VERSION:2.0
PRODID:-//Zughafen - ECPv6.15.20//NONSGML v1.0//EN
CALSCALE:GREGORIAN
METHOD:PUBLISH
X-ORIGINAL-URL:https://zughafen.de
X-WR-CALDESC:Veranstaltungen für Zughafen
REFRESH-INTERVAL;VALUE=DURATION:PT1H
X-Robots-Tag:noindex
X-PUBLISHED-TTL:PT1H
BEGIN:VTIMEZONE
TZID:Europe/Berlin
BEGIN:DAYLIGHT
TZOFFSETFROM:+0100
TZOFFSETTO:+0200
TZNAME:CEST
DTSTART:20200329T010000
END:DAYLIGHT
BEGIN:STANDARD
TZOFFSETFROM:+0200
TZOFFSETTO:+0100
TZNAME:CET
DTSTART:20201025T010000
END:STANDARD
BEGIN:DAYLIGHT
TZOFFSETFROM:+0100
TZOFFSETTO:+0200
TZNAME:CEST
DTSTART:20210328T010000
END:DAYLIGHT
BEGIN:STANDARD
TZOFFSETFROM:+0200
TZOFFSETTO:+0100
TZNAME:CET
DTSTART:20211031T010000
END:STANDARD
BEGIN:DAYLIGHT
TZOFFSETFROM:+0100
TZOFFSETTO:+0200
TZNAME:CEST
DTSTART:20220327T010000
END:DAYLIGHT
BEGIN:STANDARD
TZOFFSETFROM:+0200
TZOFFSETTO:+0100
TZNAME:CET
DTSTART:20221030T010000
END:STANDARD
END:VTIMEZONE
BEGIN:VEVENT
DTSTART;TZID=Europe/Berlin:20210701T160000
DTEND;TZID=Europe/Berlin:20210701T220000
DTSTAMP:20260424T172509
CREATED:20210701T105609Z
LAST-MODIFIED:20210701T105947Z
UID:10000068-1625155200-1625176800@zughafen.de
SUMMARY:Stattstrand Fanmeile – Fussball Europameisterschaft
DESCRIPTION:Das EM Public-Viewing in Erfurt nur 10 Minuten vom Hauptbahnhof entfernt. Wir haben Indoor und Outdoor Möglichkeiten zum mit fiebern bei allen Spielen der Europameisterschaft 2021. Der zentrale Raum\, wird ähnlich wie bei der WM 2018\, die Halle 6 mit einer 6x4m großen Leinwand. Zusätzlich gibt`s den Stattrand Biergarten mit passenden Rahmenprogramm\, der zum verweilen in lauen Sommernächten einlädt.\nÜbrigens: Auch unter Corona-Beschränkungen werden wir versuchen Euch das Fußball schauen zu ermöglichen. \nWir freuen uns auf euch!\nSpielplan \nSelbstverständlich gibt es bei den größeren Spielen immer auch leckere Snacks aus unserem Food Anhänger.\n\nAußerdem wird es bei uns am Stattstrand auch immer einen Bereich ohne Fußball geben wo du entspannt verweilen und ein kühles Getränk schlürfen kannst.\n\nNo Racism! No Homophobia! No Violence! No Sexism!\nWenn euch irgendetwas dergleichen auffällt\, meldet es bitte sofort unserem Personal.\n\nWir sehen uns am Strand
URL:https://zughafen.de/event/stattstrand-fanmeile-fussball-europameisterschaft/2021-07-01/
LOCATION:Stattstrand Biergarten\, Zum Güterbahnhof 20\, Erfurt\, Thüringen\, 99085\, Deutschland
CATEGORIES:Stattstrand
ATTACH;FMTTYPE=image/jpeg:https://zughafen.de/wp-content/uploads/2021/06/196478401_826318521352517_7947800819923586665_n.jpg
ORGANIZER;CN="Engelsburg":MAILTO:info@engelsburg.club
END:VEVENT
BEGIN:VEVENT
DTSTART;TZID=Europe/Berlin:20210702T160000
DTEND;TZID=Europe/Berlin:20210702T220000
DTSTAMP:20260424T172509
CREATED:20210701T105609Z
LAST-MODIFIED:20210701T105947Z
UID:10000069-1625241600-1625263200@zughafen.de
SUMMARY:Stattstrand Fanmeile – Fussball Europameisterschaft
DESCRIPTION:Das EM Public-Viewing in Erfurt nur 10 Minuten vom Hauptbahnhof entfernt. Wir haben Indoor und Outdoor Möglichkeiten zum mit fiebern bei allen Spielen der Europameisterschaft 2021. Der zentrale Raum\, wird ähnlich wie bei der WM 2018\, die Halle 6 mit einer 6x4m großen Leinwand. Zusätzlich gibt`s den Stattrand Biergarten mit passenden Rahmenprogramm\, der zum verweilen in lauen Sommernächten einlädt.\nÜbrigens: Auch unter Corona-Beschränkungen werden wir versuchen Euch das Fußball schauen zu ermöglichen. \nWir freuen uns auf euch!\nSpielplan \nSelbstverständlich gibt es bei den größeren Spielen immer auch leckere Snacks aus unserem Food Anhänger.\n\nAußerdem wird es bei uns am Stattstrand auch immer einen Bereich ohne Fußball geben wo du entspannt verweilen und ein kühles Getränk schlürfen kannst.\n\nNo Racism! No Homophobia! No Violence! No Sexism!\nWenn euch irgendetwas dergleichen auffällt\, meldet es bitte sofort unserem Personal.\n\nWir sehen uns am Strand
URL:https://zughafen.de/event/stattstrand-fanmeile-fussball-europameisterschaft/2021-07-02/
LOCATION:Stattstrand Biergarten\, Zum Güterbahnhof 20\, Erfurt\, Thüringen\, 99085\, Deutschland
CATEGORIES:Stattstrand
ATTACH;FMTTYPE=image/jpeg:https://zughafen.de/wp-content/uploads/2021/06/196478401_826318521352517_7947800819923586665_n.jpg
ORGANIZER;CN="Engelsburg":MAILTO:info@engelsburg.club
END:VEVENT
BEGIN:VEVENT
DTSTART;TZID=Europe/Berlin:20210703T160000
DTEND;TZID=Europe/Berlin:20210703T220000
DTSTAMP:20260424T172509
CREATED:20210701T105609Z
LAST-MODIFIED:20210701T105947Z
UID:10000070-1625328000-1625349600@zughafen.de
SUMMARY:Stattstrand Fanmeile – Fussball Europameisterschaft
DESCRIPTION:Das EM Public-Viewing in Erfurt nur 10 Minuten vom Hauptbahnhof entfernt. Wir haben Indoor und Outdoor Möglichkeiten zum mit fiebern bei allen Spielen der Europameisterschaft 2021. Der zentrale Raum\, wird ähnlich wie bei der WM 2018\, die Halle 6 mit einer 6x4m großen Leinwand. Zusätzlich gibt`s den Stattrand Biergarten mit passenden Rahmenprogramm\, der zum verweilen in lauen Sommernächten einlädt.\nÜbrigens: Auch unter Corona-Beschränkungen werden wir versuchen Euch das Fußball schauen zu ermöglichen. \nWir freuen uns auf euch!\nSpielplan \nSelbstverständlich gibt es bei den größeren Spielen immer auch leckere Snacks aus unserem Food Anhänger.\n\nAußerdem wird es bei uns am Stattstrand auch immer einen Bereich ohne Fußball geben wo du entspannt verweilen und ein kühles Getränk schlürfen kannst.\n\nNo Racism! No Homophobia! No Violence! No Sexism!\nWenn euch irgendetwas dergleichen auffällt\, meldet es bitte sofort unserem Personal.\n\nWir sehen uns am Strand
URL:https://zughafen.de/event/stattstrand-fanmeile-fussball-europameisterschaft/2021-07-03/
LOCATION:Stattstrand Biergarten\, Zum Güterbahnhof 20\, Erfurt\, Thüringen\, 99085\, Deutschland
CATEGORIES:Stattstrand
ATTACH;FMTTYPE=image/jpeg:https://zughafen.de/wp-content/uploads/2021/06/196478401_826318521352517_7947800819923586665_n.jpg
ORGANIZER;CN="Engelsburg":MAILTO:info@engelsburg.club
END:VEVENT
BEGIN:VEVENT
DTSTART;TZID=Europe/Berlin:20210706T160000
DTEND;TZID=Europe/Berlin:20210706T220000
DTSTAMP:20260424T172509
CREATED:20210701T105609Z
LAST-MODIFIED:20210701T105947Z
UID:10000071-1625587200-1625608800@zughafen.de
SUMMARY:Stattstrand Fanmeile – Fussball Europameisterschaft
DESCRIPTION:Das EM Public-Viewing in Erfurt nur 10 Minuten vom Hauptbahnhof entfernt. Wir haben Indoor und Outdoor Möglichkeiten zum mit fiebern bei allen Spielen der Europameisterschaft 2021. Der zentrale Raum\, wird ähnlich wie bei der WM 2018\, die Halle 6 mit einer 6x4m großen Leinwand. Zusätzlich gibt`s den Stattrand Biergarten mit passenden Rahmenprogramm\, der zum verweilen in lauen Sommernächten einlädt.\nÜbrigens: Auch unter Corona-Beschränkungen werden wir versuchen Euch das Fußball schauen zu ermöglichen. \nWir freuen uns auf euch!\nSpielplan \nSelbstverständlich gibt es bei den größeren Spielen immer auch leckere Snacks aus unserem Food Anhänger.\n\nAußerdem wird es bei uns am Stattstrand auch immer einen Bereich ohne Fußball geben wo du entspannt verweilen und ein kühles Getränk schlürfen kannst.\n\nNo Racism! No Homophobia! No Violence! No Sexism!\nWenn euch irgendetwas dergleichen auffällt\, meldet es bitte sofort unserem Personal.\n\nWir sehen uns am Strand
URL:https://zughafen.de/event/stattstrand-fanmeile-fussball-europameisterschaft/2021-07-06/
LOCATION:Stattstrand Biergarten\, Zum Güterbahnhof 20\, Erfurt\, Thüringen\, 99085\, Deutschland
CATEGORIES:Stattstrand
ATTACH;FMTTYPE=image/jpeg:https://zughafen.de/wp-content/uploads/2021/06/196478401_826318521352517_7947800819923586665_n.jpg
ORGANIZER;CN="Engelsburg":MAILTO:info@engelsburg.club
END:VEVENT
BEGIN:VEVENT
DTSTART;TZID=Europe/Berlin:20210707T160000
DTEND;TZID=Europe/Berlin:20210707T220000
DTSTAMP:20260424T172509
CREATED:20210701T105609Z
LAST-MODIFIED:20210701T105947Z
UID:10000072-1625673600-1625695200@zughafen.de
SUMMARY:Stattstrand Fanmeile – Fussball Europameisterschaft
DESCRIPTION:Das EM Public-Viewing in Erfurt nur 10 Minuten vom Hauptbahnhof entfernt. Wir haben Indoor und Outdoor Möglichkeiten zum mit fiebern bei allen Spielen der Europameisterschaft 2021. Der zentrale Raum\, wird ähnlich wie bei der WM 2018\, die Halle 6 mit einer 6x4m großen Leinwand. Zusätzlich gibt`s den Stattrand Biergarten mit passenden Rahmenprogramm\, der zum verweilen in lauen Sommernächten einlädt.\nÜbrigens: Auch unter Corona-Beschränkungen werden wir versuchen Euch das Fußball schauen zu ermöglichen. \nWir freuen uns auf euch!\nSpielplan \nSelbstverständlich gibt es bei den größeren Spielen immer auch leckere Snacks aus unserem Food Anhänger.\n\nAußerdem wird es bei uns am Stattstrand auch immer einen Bereich ohne Fußball geben wo du entspannt verweilen und ein kühles Getränk schlürfen kannst.\n\nNo Racism! No Homophobia! No Violence! No Sexism!\nWenn euch irgendetwas dergleichen auffällt\, meldet es bitte sofort unserem Personal.\n\nWir sehen uns am Strand
URL:https://zughafen.de/event/stattstrand-fanmeile-fussball-europameisterschaft/2021-07-07/
LOCATION:Stattstrand Biergarten\, Zum Güterbahnhof 20\, Erfurt\, Thüringen\, 99085\, Deutschland
CATEGORIES:Stattstrand
ATTACH;FMTTYPE=image/jpeg:https://zughafen.de/wp-content/uploads/2021/06/196478401_826318521352517_7947800819923586665_n.jpg
ORGANIZER;CN="Engelsburg":MAILTO:info@engelsburg.club
END:VEVENT
BEGIN:VEVENT
DTSTART;TZID=Europe/Berlin:20210707T160000
DTEND;TZID=Europe/Berlin:20210707T220000
DTSTAMP:20260424T172509
CREATED:20210705T154551Z
LAST-MODIFIED:20210708T125754Z
UID:10000026-1625673600-1625695200@zughafen.de
SUMMARY:Biergarten Quiz - FUSSBALL EDITION
DESCRIPTION:Kurz vor dem Halbfinale der Fussball EM\, haben wir für euch auch unsere erste Edition des BIERGARTENQUIZES!\nIhr könnt Bier gewinnen für euer TEAM.\nAlles was ihr tun müsst\, ist die meisten Fragen richtig zu beantworten.\nWarm Up 19 Uhr I Start 19.30\nPunkt 21 Uhr gibt es dann im hinteren Teil das Fussballspiel.\nKommt vorbei und ratet mit\n\nWas noch am Stattstrand passiert erfährst du HIER
URL:https://zughafen.de/event/biergarten-quiz-fussball-edition-2/
LOCATION:Stattstrand Biergarten\, Zum Güterbahnhof 20\, Erfurt\, Thüringen\, 99085\, Deutschland
CATEGORIES:Stattstrand
ATTACH;FMTTYPE=image/jpeg:https://zughafen.de/wp-content/uploads/2021/06/198389897_828219454495757_8420856743331311784_n.jpg
END:VEVENT
BEGIN:VEVENT
DTSTART;TZID=Europe/Berlin:20210711T160000
DTEND;TZID=Europe/Berlin:20210711T220000
DTSTAMP:20260424T172509
CREATED:20210701T105609Z
LAST-MODIFIED:20210701T105947Z
UID:10000073-1626019200-1626040800@zughafen.de
SUMMARY:Stattstrand Fanmeile – Fussball Europameisterschaft
DESCRIPTION:Das EM Public-Viewing in Erfurt nur 10 Minuten vom Hauptbahnhof entfernt. Wir haben Indoor und Outdoor Möglichkeiten zum mit fiebern bei allen Spielen der Europameisterschaft 2021. Der zentrale Raum\, wird ähnlich wie bei der WM 2018\, die Halle 6 mit einer 6x4m großen Leinwand. Zusätzlich gibt`s den Stattrand Biergarten mit passenden Rahmenprogramm\, der zum verweilen in lauen Sommernächten einlädt.\nÜbrigens: Auch unter Corona-Beschränkungen werden wir versuchen Euch das Fußball schauen zu ermöglichen. \nWir freuen uns auf euch!\nSpielplan \nSelbstverständlich gibt es bei den größeren Spielen immer auch leckere Snacks aus unserem Food Anhänger.\n\nAußerdem wird es bei uns am Stattstrand auch immer einen Bereich ohne Fußball geben wo du entspannt verweilen und ein kühles Getränk schlürfen kannst.\n\nNo Racism! No Homophobia! No Violence! No Sexism!\nWenn euch irgendetwas dergleichen auffällt\, meldet es bitte sofort unserem Personal.\n\nWir sehen uns am Strand
URL:https://zughafen.de/event/stattstrand-fanmeile-fussball-europameisterschaft/2021-07-11/
LOCATION:Stattstrand Biergarten\, Zum Güterbahnhof 20\, Erfurt\, Thüringen\, 99085\, Deutschland
CATEGORIES:Stattstrand
ATTACH;FMTTYPE=image/jpeg:https://zughafen.de/wp-content/uploads/2021/06/196478401_826318521352517_7947800819923586665_n.jpg
ORGANIZER;CN="Engelsburg":MAILTO:info@engelsburg.club
END:VEVENT
END:VCALENDAR