BEGIN:VCALENDAR
VERSION:2.0
PRODID:-//Zughafen - ECPv6.15.20//NONSGML v1.0//EN
CALSCALE:GREGORIAN
METHOD:PUBLISH
X-WR-CALNAME:Zughafen
X-ORIGINAL-URL:https://zughafen.de
X-WR-CALDESC:Veranstaltungen für Zughafen
REFRESH-INTERVAL;VALUE=DURATION:PT1H
X-Robots-Tag:noindex
X-PUBLISHED-TTL:PT1H
BEGIN:VTIMEZONE
TZID:Europe/Berlin
BEGIN:DAYLIGHT
TZOFFSETFROM:+0100
TZOFFSETTO:+0200
TZNAME:CEST
DTSTART:20210328T010000
END:DAYLIGHT
BEGIN:STANDARD
TZOFFSETFROM:+0200
TZOFFSETTO:+0100
TZNAME:CET
DTSTART:20211031T010000
END:STANDARD
BEGIN:DAYLIGHT
TZOFFSETFROM:+0100
TZOFFSETTO:+0200
TZNAME:CEST
DTSTART:20220327T010000
END:DAYLIGHT
BEGIN:STANDARD
TZOFFSETFROM:+0200
TZOFFSETTO:+0100
TZNAME:CET
DTSTART:20221030T010000
END:STANDARD
BEGIN:DAYLIGHT
TZOFFSETFROM:+0100
TZOFFSETTO:+0200
TZNAME:CEST
DTSTART:20230326T010000
END:DAYLIGHT
BEGIN:STANDARD
TZOFFSETFROM:+0200
TZOFFSETTO:+0100
TZNAME:CET
DTSTART:20231029T010000
END:STANDARD
END:VTIMEZONE
BEGIN:VEVENT
DTSTART;TZID=Europe/Berlin:20220615T160000
DTEND;TZID=Europe/Berlin:20220615T160000
DTSTAMP:20260421T102855
CREATED:20220609T140310Z
LAST-MODIFIED:20220614T140945Z
UID:10000204-1655308800-1655308800@zughafen.de
SUMMARY:ZÜNDSTUFE 1
DESCRIPTION:Zündstufe 1 Wir Starten die Triebwerke und präsentieren Elektronische Tanzmusik mit:\nTRACK AM STECKEN & KONRAD BOGEN\n\nWer immer auf dem Laufenden bleiben will\, was im Zughafen passiert\, der kann immer auf der Website vorbeischauen\, wo immer alle Veranstaltungen zu finden sind. Außerdem kann man uns auf Instagram und Facebook folgen\, wo wir alle am Tagesgeschäft teilhaben lassen.
URL:https://zughafen.de/event/zuendstufe-1/
LOCATION:Stattstrand Biergarten\, Zum Güterbahnhof 20\, Erfurt\, Thüringen\, 99085\, Deutschland
CATEGORIES:Stattstrand,Zughafen
ATTACH;FMTTYPE=image/jpeg:https://zughafen.de/wp-content/uploads/2022/06/zuendstufe1.jpg
END:VEVENT
BEGIN:VEVENT
DTSTART;TZID=Europe/Berlin:20220622T160000
DTEND;TZID=Europe/Berlin:20220622T160000
DTSTAMP:20260421T102855
CREATED:20220601T082708Z
LAST-MODIFIED:20220603T102139Z
UID:10000198-1655913600-1655913600@zughafen.de
SUMMARY:BERGFEST
DESCRIPTION:Bergfest\, Halftime\, Verschnaufpause.\nDu hast die Hälfte der Woche hinter dich gebracht und das sollte gefeiert werden.\nWechselnde Bierspecials\, gute Musik und Erholung erwarten dich bei uns am Stattstrand. Kommt vorbei\, setz dich mit dem kühlen Drink unter den Sonnenschirm und lass die Seele baumeln\, denn das hast du dir verdient.\n\nWer immer auf dem Laufenden bleiben will\, was im Zughafen passiert\, der kann immer auf der Website vorbeischauen\, wo immer alle Veranstaltungen zu finden sind. Außerdem kann man uns auf Instagram und Facebook folgen\, wo wir alle am Tagesgeschäft teilhaben lassen.
URL:https://zughafen.de/event/bergfest/
LOCATION:Stattstrand Biergarten\, Zum Güterbahnhof 20\, Erfurt\, Thüringen\, 99085\, Deutschland
CATEGORIES:Stattstrand,Zughafen
ATTACH;FMTTYPE=image/jpeg:https://zughafen.de/wp-content/uploads/2022/06/bergfest.jpg
END:VEVENT
BEGIN:VEVENT
DTSTART;TZID=Europe/Berlin:20220629T160000
DTEND;TZID=Europe/Berlin:20220629T160000
DTSTAMP:20260421T102855
CREATED:20220627T120711Z
LAST-MODIFIED:20220706T092307Z
UID:10000210-1656518400-1656518400@zughafen.de
SUMMARY:ZÜNDSTUFE 2
DESCRIPTION:Zündstufe 2 Wir Starten die Triebwerke und präsentieren Elektronische Tanzmusik mit:\nCHINCH CHILLAR & Lommél\nWer immer auf dem Laufenden bleiben will\, was im Zughafen passiert\, der kann immer auf der Website vorbeischauen\, wo immer alle Veranstaltungen zu finden sind. Außerdem kann man uns auf Instagram und Facebook folgen\, wo wir alle am Tagesgeschäft teilhaben lassen.
URL:https://zughafen.de/event/zuendstufe-2/
LOCATION:Stattstrand Biergarten\, Zum Güterbahnhof 20\, Erfurt\, Thüringen\, 99085\, Deutschland
CATEGORIES:Stattstrand,Zughafen
ATTACH;FMTTYPE=image/jpeg:https://zughafen.de/wp-content/uploads/2022/06/zs2.jpg
END:VEVENT
END:VCALENDAR