BEGIN:VCALENDAR
VERSION:2.0
PRODID:-//Zughafen - ECPv6.15.20//NONSGML v1.0//EN
CALSCALE:GREGORIAN
METHOD:PUBLISH
X-ORIGINAL-URL:https://zughafen.de
X-WR-CALDESC:Veranstaltungen für Zughafen
REFRESH-INTERVAL;VALUE=DURATION:PT1H
X-Robots-Tag:noindex
X-PUBLISHED-TTL:PT1H
BEGIN:VTIMEZONE
TZID:Europe/Berlin
BEGIN:DAYLIGHT
TZOFFSETFROM:+0100
TZOFFSETTO:+0200
TZNAME:CEST
DTSTART:20200329T010000
END:DAYLIGHT
BEGIN:STANDARD
TZOFFSETFROM:+0200
TZOFFSETTO:+0100
TZNAME:CET
DTSTART:20201025T010000
END:STANDARD
BEGIN:DAYLIGHT
TZOFFSETFROM:+0100
TZOFFSETTO:+0200
TZNAME:CEST
DTSTART:20210328T010000
END:DAYLIGHT
BEGIN:STANDARD
TZOFFSETFROM:+0200
TZOFFSETTO:+0100
TZNAME:CET
DTSTART:20211031T010000
END:STANDARD
BEGIN:DAYLIGHT
TZOFFSETFROM:+0100
TZOFFSETTO:+0200
TZNAME:CEST
DTSTART:20220327T010000
END:DAYLIGHT
BEGIN:STANDARD
TZOFFSETFROM:+0200
TZOFFSETTO:+0100
TZNAME:CET
DTSTART:20221030T010000
END:STANDARD
END:VTIMEZONE
BEGIN:VEVENT
DTSTART;TZID=Europe/Berlin:20210908T180000
DTEND;TZID=Europe/Berlin:20210908T220000
DTSTAMP:20260421T235328
CREATED:20210701T105126Z
LAST-MODIFIED:20210907T142126Z
UID:10000001-1631124000-1631138400@zughafen.de
SUMMARY:Triebwerk Mittwoch w/Anne Karmané
DESCRIPTION:Triebwerk Mittwoch – Wir starten die Maschinen! \nDie Hälfte der Woche ist geschafft. Das heißt\, es kann wieder los gehen.\nWechselnde Bierspecials\, gute Musik und treibende Events erwarten dich bei uns am Stattstrand. Kommt vorbei\, setz dich mit dem kühlen Drink unter den Sonnenschirm und genieß‘ das Stimmung\, denn das hast du dir verdient.\nJeden Mittwoch ab 18 Uhr. \n\nDie sogenannte „Karman-Linie“ beschreibt in der Wissenschaft den Übergang von der Erde in den Weltraum. Anne Karmané nimmt uns mit auf ihren musikalischen Trip ins All: Ihr Sound schwebt irgendwo in der Sphäre zwischen Indie Dance\, Retrowave und (housigem) Techno. 80s-Vibes\, Vocals und Synthesizer sind ihre Welt.\nDer Name Anne Karmané entstand im Sommer 2019\, als auch ihre DJ-Reise begonnen hat. Seitdem hat sie einige Open Air Events und Bars in ihrer Heimatstadt Erfurt und ihrer zweiten Heimat Nürnberg beschallt\, bei Livestreams mitgemacht und Podcasts bei Kollektiven veröffentlicht. Im August feiert sie ihr erstes kleines Festival als DJ. \n\nWas noch am Stattstrand passiert erfährst du HIER.\nCheckt einfach unsere Instagram Seite für tägliche Neuigkeiten
URL:https://zughafen.de/event/bergfest-jeden-mittwoch-am-stattstrand-2-2021-09-08/
LOCATION:Stattstrand Biergarten\, Zum Güterbahnhof 20\, Erfurt\, Thüringen\, 99085\, Deutschland
CATEGORIES:Stattstrand
ATTACH;FMTTYPE=image/jpeg:https://zughafen.de/wp-content/uploads/2021/05/183936039_810962302888139_2904188334201011222_n.jpg
ORGANIZER;CN="Engelsburg":MAILTO:info@engelsburg.club
END:VEVENT
BEGIN:VEVENT
DTSTART;TZID=Europe/Berlin:20210929T180000
DTEND;TZID=Europe/Berlin:20210929T220000
DTSTAMP:20260421T235328
CREATED:20210701T105126Z
LAST-MODIFIED:20210924T083436Z
UID:10000028-1632938400-1632952800@zughafen.de
SUMMARY:Triebwerk Mittwoch w/ MEINE GUD`N
DESCRIPTION:Triebwerk Mittwoch – Wir starten die Maschinen! \nDie Hälfte der Woche ist geschafft. Das heißt\, es kann wieder los gehen. \nLine Up: Meine Gud´n\nWechselnde Bierspecials\, gute Musik und treibende Events erwarten dich bei uns am Stattstrand. Kommt vorbei\, setz dich mit dem kühlen Drink unter den Sonnenschirm und genieß‘ das Stimmung\, denn das hast du dir verdient.\nJeden Mittwoch ab 18 Uhr. \nWas noch am Stattstrand passiert erfährst du HIER.\nCheckt einfach unsere Instagram Seite für tägliche Neuigkeiten
URL:https://zughafen.de/event/bergfest-jeden-mittwoch-am-stattstrand-2-2021-09-29/
LOCATION:Stattstrand Biergarten\, Zum Güterbahnhof 20\, Erfurt\, Thüringen\, 99085\, Deutschland
CATEGORIES:Stattstrand
ATTACH;FMTTYPE=image/jpeg:https://zughafen.de/wp-content/uploads/2021/05/183936039_810962302888139_2904188334201011222_n.jpg
ORGANIZER;CN="Engelsburg":MAILTO:info@engelsburg.club
END:VEVENT
END:VCALENDAR