BEGIN:VCALENDAR
VERSION:2.0
PRODID:-//Zughafen - ECPv6.15.20//NONSGML v1.0//EN
CALSCALE:GREGORIAN
METHOD:PUBLISH
X-ORIGINAL-URL:https://zughafen.de
X-WR-CALDESC:Veranstaltungen für Zughafen
REFRESH-INTERVAL;VALUE=DURATION:PT1H
X-Robots-Tag:noindex
X-PUBLISHED-TTL:PT1H
BEGIN:VTIMEZONE
TZID:Europe/Berlin
BEGIN:DAYLIGHT
TZOFFSETFROM:+0100
TZOFFSETTO:+0200
TZNAME:CEST
DTSTART:20250330T010000
END:DAYLIGHT
BEGIN:STANDARD
TZOFFSETFROM:+0200
TZOFFSETTO:+0100
TZNAME:CET
DTSTART:20251026T010000
END:STANDARD
BEGIN:DAYLIGHT
TZOFFSETFROM:+0100
TZOFFSETTO:+0200
TZNAME:CEST
DTSTART:20260329T010000
END:DAYLIGHT
BEGIN:STANDARD
TZOFFSETFROM:+0200
TZOFFSETTO:+0100
TZNAME:CET
DTSTART:20261025T010000
END:STANDARD
BEGIN:DAYLIGHT
TZOFFSETFROM:+0100
TZOFFSETTO:+0200
TZNAME:CEST
DTSTART:20270328T010000
END:DAYLIGHT
BEGIN:STANDARD
TZOFFSETFROM:+0200
TZOFFSETTO:+0100
TZNAME:CET
DTSTART:20271031T010000
END:STANDARD
END:VTIMEZONE
BEGIN:VEVENT
DTSTART;TZID=Europe/Berlin:20260326T190000
DTEND;TZID=Europe/Berlin:20260326T220000
DTSTAMP:20260419T175918
CREATED:20260322T124929Z
LAST-MODIFIED:20260322T125155Z
UID:10000470-1774551600-1774562400@zughafen.de
SUMMARY:Anna Margolina Quartet – Album Release “Song of a Girl” & Yiddish Swing Abschlusskonzert der 34. Jüdisch-Israelischen Kulturtage Thüringen
DESCRIPTION:Mit der Jazzsängerin Anna Margolina dürfen wir zum Abschluss unseres Festivals eine Musikerin begrüßen\, die mit ihrem 2015 gegründeten Quartett ein außergewöhnliches Repertoire entwickelt hat. Soul und Jazz treffen auf die jiddische Sprache und erzählen von großen Träumen\, dem Wunsch\, endlich Wurzeln zu schlagen am einen und ebensolche wiederzufinden am anderen Ort – zwischen Minsk\, Berlin und vielleicht New York.\nIn ihrem neuen Programm und Studioalbum Song of a Girl vertont sie jiddische Gedichte der Lyrikerin Anna Margolin (1887–1952). Wie auch in ihrem Debütalbum “One Endless Night” verarbeitet die Sängerin hier ihre Familiengeschichte. Die Songs schreibt sie zusammen mit dem Bassisten Paul Kleber\, der aus zahlreichen Einspielungen diverser Jazz-Ensembles bekannt ist. Arseny Rykov am Piano und Schlagzeuger Martin Krümmling vervollständigen das Quartett zu einem Musikerlebnis\, das nicht nur echte Jazzfans begeistern wird.\nIm zweiten Teil des Abends darf getanzt werden – feiern Sie mit uns beim Yiddish Swing des Anna Margolina Quartet den Abschluss der diesjährigen Jüdisch-Israelischen Kulturtage Thüringen!\n\n\n\n\n\nAnna Margolina (BY/DE): Gesang\nArseny Rykov (RU): Piano\nPaul Kleber (DE): Bass\nMartin Krümmling (DE): Schlagzeug\nEinlass ab 19 Uhr. Keine Taschen größer als A4.\n\n\nHinweise zur Barrierefreiheit:\n\nDer Veranstaltungsort ist rollstuhlgerecht zugänglich (auf Anfrage). \n\n\nPreise\nVVK: 11\,10€/8\,90€ erm. | Abendkasse: 12\,00€/10\,00€ erm.\n\n\n\nTickets: https://www.ticketshop-thueringen.de/event/anna-margolina-quartet/39391/\nInfos: www.jikt.de\n\n\n\nWer immer auf dem Laufenden bleiben will\, was im Zughafen passiert\, der kann immer auf der Website vorbeischauen\, wo immer alle Veranstaltungen zu finden sind. Außerdem kann man uns auf Instagram und Facebook folgen\, wo wir alle am Tagesgeschäft teilhaben lassen.
URL:https://zughafen.de/event/anna-margolina-quartet-album-release-song-of-a-girl-yiddish-swing-abschlusskonzert-der-34-juedisch-israelischen-kulturtage-thueringen/
LOCATION:Zughafen\, Zum Güterbahnhof 20\, Erfurt\, Thüringen\, 99085\, Deutschland
CATEGORIES:Halle 6
ATTACH;FMTTYPE=image/png:https://zughafen.de/wp-content/uploads/2026/03/Bildschirmfoto-2026-03-22-um-13.40.18.png
END:VEVENT
BEGIN:VEVENT
DTSTART;TZID=Europe/Berlin:20260425T100000
DTEND;TZID=Europe/Berlin:20260425T150000
DTSTAMP:20260419T175918
CREATED:20260129T150607Z
LAST-MODIFIED:20260129T150607Z
UID:10000465-1777111200-1777129200@zughafen.de
SUMMARY:Terraristik & Reptilienbörse
DESCRIPTION:Terraristik & Reptilienbörse \nAusstellung Verkauf und Tausch von Terrarientieren\, Literatur\, Terrarien\, Zubehör und Futtertieren. \nInfo und Anmeldung:\nTel. 034496 23432 | www.reptilienbörsen-ost.de oder\nwww.reptilienboersen-ost.de \n  \nWer immer auf dem Laufenden bleiben will\, was im Zughafen passiert\, der kann immer auf der Website vorbeischauen\, wo immer alle Veranstaltungen zu finden sind. Außerdem kann man uns auf Instagram und Facebook folgen\, wo wir alle am Tagesgeschäft teilhaben lassen.
URL:https://zughafen.de/event/terraristik-reptilienboerse-6/
LOCATION:Zughafen\, Zum Güterbahnhof 20\, Erfurt\, Thüringen\, 99085\, Deutschland
CATEGORIES:Halle 6,Zughafen
ATTACH;FMTTYPE=image/jpeg:https://zughafen.de/wp-content/uploads/2026/01/2508-Flyer-Reptilienboerse-Erfurt-A6-April.jpg
END:VEVENT
BEGIN:VEVENT
DTSTART;TZID=Europe/Berlin:20260504T193000
DTEND;TZID=Europe/Berlin:20260504T223000
DTSTAMP:20260419T175918
CREATED:20260306T112016Z
LAST-MODIFIED:20260306T112718Z
UID:10000469-1777923000-1777933800@zughafen.de
SUMMARY:Milleniumkid Schwerelos Tour 2026
DESCRIPTION:Schwerelos Tour 2026\nMit der Schwerelos Tour bringt MilleniumKid emotionalen\, energiegeladen Sound\, der unter die Haut geht\, auf die Bühne!\nDie beliebten Liveshows bewegen sich zwischen elektronischem Drive und tiefen Momenten\, zwischen Aufbruch und Nostalgie. Geschichten von Trennung\, Neuanfang und Voranschreiten treffen auf kraftvolle Beats und eingängige Melodien. Die Musik bleibt ehrlich und direkt\, auch wenn sie manchmal definitiv zum Tanzen ist – mal ruhig und nachdenklich\, mal laut und fordernd. MilleniumKid schafft es\, schwierige Gefühle in moderne Sounds zu übersetzen.\nWer schon mal Liebeskummer hatte oder sich verloren gefühlt hat\, wird sich in diesen Songs wiederfinden.„Schwerelos“ steht für das Loslassen\, das Weitermachen – und für Musik\, die einen mitnimmt\, ohne sich zu verstellen. \nWer immer auf dem Laufenden bleiben will\, was im Zughafen passiert\, der kann immer auf der Website vorbeischauen\, wo immer alle Veranstaltungen zu finden sind. Außerdem kann man uns auf Instagram und Facebook folgen\, wo wir alle am Tagesgeschäft teilhaben lassen.
URL:https://zughafen.de/event/milleniumkid-schwerelos-tour-2026/
LOCATION:Zughafen\, Zum Güterbahnhof 20\, Erfurt\, Thüringen\, 99085\, Deutschland
CATEGORIES:Halle 6,Zughafen
ATTACH;FMTTYPE=image/jpeg:https://zughafen.de/wp-content/uploads/2026/03/WhatsApp-Image-2026-03-05-at-14.05.27-scaled.jpeg
END:VEVENT
BEGIN:VEVENT
DTSTART;TZID=Europe/Berlin:20260508T160000
DTEND;TZID=Europe/Berlin:20260509T220000
DTSTAMP:20260419T175918
CREATED:20251209T142640Z
LAST-MODIFIED:20251209T142640Z
UID:10000462-1778256000-1778364000@zughafen.de
SUMMARY:Flanieren mit Bieren
DESCRIPTION:Flanieren mit Bieren \nweitere Details folgen \n  \nWer immer auf dem Laufenden bleiben will\, was im Zughafen passiert\, der kann immer auf der Website vorbeischauen\, wo immer alle Veranstaltungen zu finden sind. Außerdem kann man uns auf Instagram und Facebook folgen\, wo wir alle am Tagesgeschäft teilhaben lassen.
URL:https://zughafen.de/event/flanieren-mit-bieren/
LOCATION:Zughafen\, Zum Güterbahnhof 20\, Erfurt\, Thüringen\, 99085\, Deutschland
CATEGORIES:Stattstrand,Zughafen
ATTACH;FMTTYPE=image/png:https://zughafen.de/wp-content/uploads/2025/12/Bildschirmfoto-2025-12-09-um-15.21.53-scaled.png
END:VEVENT
BEGIN:VEVENT
DTSTART;TZID=Europe/Berlin:20261114T100000
DTEND;TZID=Europe/Berlin:20261114T150000
DTSTAMP:20260419T175918
CREATED:20260129T150828Z
LAST-MODIFIED:20260129T150828Z
UID:10000466-1794650400-1794668400@zughafen.de
SUMMARY:Terraristik & Reptilienbörse
DESCRIPTION:Terraristik & Reptilienbörse \nAusstellung Verkauf und Tausch von Terrarientieren\, Literatur\, Terrarien\, Zubehör und Futtertieren. \nInfo und Anmeldung:\nTel. 034496 23432 | www.reptilienbörsen-ost.de oder\nwww.reptilienboersen-ost.de \n  \nWer immer auf dem Laufenden bleiben will\, was im Zughafen passiert\, der kann immer auf der Website vorbeischauen\, wo immer alle Veranstaltungen zu finden sind. Außerdem kann man uns auf Instagram und Facebook folgen\, wo wir alle am Tagesgeschäft teilhaben lassen.
URL:https://zughafen.de/event/terraristik-reptilienboerse-7/
LOCATION:Zughafen\, Zum Güterbahnhof 20\, Erfurt\, Thüringen\, 99085\, Deutschland
CATEGORIES:Halle 6,Zughafen
ATTACH;FMTTYPE=image/jpeg:https://zughafen.de/wp-content/uploads/2026/01/2508-Flyer-Reptilienboerse-Erfurt-A6-November.jpg
END:VEVENT
END:VCALENDAR